BEGIN:VCALENDAR
VERSION:2.0
PRODID:-//Empower Yourself - ECPv6.15.16//NONSGML v1.0//EN
CALSCALE:GREGORIAN
METHOD:PUBLISH
X-ORIGINAL-URL:https://empower-yourself.today
X-WR-CALDESC:Évènements pour Empower Yourself
REFRESH-INTERVAL;VALUE=DURATION:PT1H
X-Robots-Tag:noindex
X-PUBLISHED-TTL:PT1H
BEGIN:VTIMEZONE
TZID:Europe/Brussels
BEGIN:DAYLIGHT
TZOFFSETFROM:+0100
TZOFFSETTO:+0200
TZNAME:CEST
DTSTART:20210328T010000
END:DAYLIGHT
BEGIN:STANDARD
TZOFFSETFROM:+0200
TZOFFSETTO:+0100
TZNAME:CET
DTSTART:20211031T010000
END:STANDARD
BEGIN:DAYLIGHT
TZOFFSETFROM:+0100
TZOFFSETTO:+0200
TZNAME:CEST
DTSTART:20220327T010000
END:DAYLIGHT
BEGIN:STANDARD
TZOFFSETFROM:+0200
TZOFFSETTO:+0100
TZNAME:CET
DTSTART:20221030T010000
END:STANDARD
BEGIN:DAYLIGHT
TZOFFSETFROM:+0100
TZOFFSETTO:+0200
TZNAME:CEST
DTSTART:20230326T010000
END:DAYLIGHT
BEGIN:STANDARD
TZOFFSETFROM:+0200
TZOFFSETTO:+0100
TZNAME:CET
DTSTART:20231029T010000
END:STANDARD
END:VTIMEZONE
BEGIN:VEVENT
DTSTART;TZID=Europe/Brussels:20220115T093000
DTEND;TZID=Europe/Brussels:20220115T113000
DTSTAMP:20260420T095528
CREATED:20211201T073714Z
LAST-MODIFIED:20211201T073830Z
UID:40467-1642239000-1642246200@empower-yourself.today
SUMMARY:Partages multiples
DESCRIPTION:Partages multiples\n\n\nPartages d’expériences\, d’idées\, de valeurs\,… \nOuvert à tous nos amis / clients / élèves / partenaires \nDe manière informelle lors d’un petit déjeuner\, puis de manière plus formelle lors d’un cercle de parole. \nNous tenons à ce que cette rencontre soit réellement ouverte à tous et donc purement gratuite. \nNéanmoins\, nous savons que certains d’entre vous seront heureux d’amener quelque chose à partager pour le petit-déjeuner. Merci de nous prévenir (via les billets d’inscription); cela nous permettra de mieux nous organiser et de ne pas gaspiller. \nVeuillez donc choisir le billet qui s’apparente le mieux à votre situation.
URL:https://empower-yourself.today/event/partages-multiples-3/
LOCATION:Mireille Soudan & Cédric Dufour – Empower Yourself\, 68 Avenue de Selliers de Moranville\, Berchem-Sainte-Agathe\, Bruxelles\, 1082\, Belgium
CATEGORIES:meditation-et-developpement-personnel,reiki,tai-chi
ATTACH;FMTTYPE=image/jpeg:https://empower-yourself.today/wp-content/uploads/2021/12/3d0127d3f2f06019c6da8ab3e5a4746c-A3V6W6.tmp_.jpg
END:VEVENT
END:VCALENDAR