BEGIN:VCALENDAR
VERSION:2.0
PRODID:-//Empower Yourself - ECPv6.15.16//NONSGML v1.0//EN
CALSCALE:GREGORIAN
METHOD:PUBLISH
X-WR-CALNAME:Empower Yourself
X-ORIGINAL-URL:https://empower-yourself.today
X-WR-CALDESC:Évènements pour Empower Yourself
REFRESH-INTERVAL;VALUE=DURATION:PT1H
X-Robots-Tag:noindex
X-PUBLISHED-TTL:PT1H
BEGIN:VTIMEZONE
TZID:Europe/Brussels
BEGIN:DAYLIGHT
TZOFFSETFROM:+0100
TZOFFSETTO:+0200
TZNAME:CEST
DTSTART:20200329T010000
END:DAYLIGHT
BEGIN:STANDARD
TZOFFSETFROM:+0200
TZOFFSETTO:+0100
TZNAME:CET
DTSTART:20201025T010000
END:STANDARD
BEGIN:DAYLIGHT
TZOFFSETFROM:+0100
TZOFFSETTO:+0200
TZNAME:CEST
DTSTART:20210328T010000
END:DAYLIGHT
BEGIN:STANDARD
TZOFFSETFROM:+0200
TZOFFSETTO:+0100
TZNAME:CET
DTSTART:20211031T010000
END:STANDARD
BEGIN:DAYLIGHT
TZOFFSETFROM:+0100
TZOFFSETTO:+0200
TZNAME:CEST
DTSTART:20220327T010000
END:DAYLIGHT
BEGIN:STANDARD
TZOFFSETFROM:+0200
TZOFFSETTO:+0100
TZNAME:CET
DTSTART:20221030T010000
END:STANDARD
END:VTIMEZONE
BEGIN:VEVENT
DTSTART;TZID=Europe/Brussels:20210910T200000
DTEND;TZID=Europe/Brussels:20210910T220000
DTSTAMP:20260421T162451
CREATED:20210805T094505Z
LAST-MODIFIED:20210906T065426Z
UID:40333-1631304000-1631311200@empower-yourself.today
SUMMARY:COMPLET - Auto-Reiki - Initiation aux symboles de base du Reiki Unitaire/Reiki du Son
DESCRIPTION:Initiation à l’utilisation personnelle des 3 symboles de base du Reiki Unitaire – Reiki du Son. / Renforcez LUMIÈRE\, JOIE et PUISSANCE !\n\n\nLors de cette soirée\, vous serez initié au Champ Merkabah (activation des corps subtils) et aux trois symboles de base du Reiki Unitaire. \nVous apprendrez ensuite comment pratiquer votre auto-Reiki et renforcerez en vous les qualités liées à ces trois symboles : LUMIÈRE\, JOIE et PUISSANCE. \n5 minutes par jour vous suffiront à retrouver ces qualités chaque fois qu’elles diminuent.
URL:https://empower-yourself.today/event/auto-reiki-initiation-aux-symboles-de-base-du-reiki-unitaire-reiki-du-son/
LOCATION:Chez Cédric – Empower Yourself\, 68 Avenue de Selliers de Moranville\, Berchem-Sainte-Agathe\, Bruxelles\, 1082\, Belgium
CATEGORIES:reiki
ATTACH;FMTTYPE=image/jpeg:https://empower-yourself.today/wp-content/uploads/2021/08/8f29351d66e96e811c79a6b9aa334fe4-4wPw2V.tmp_.jpg
END:VEVENT
END:VCALENDAR