BEGIN:VCALENDAR
VERSION:2.0
PRODID:-//Empower Yourself - ECPv6.15.16//NONSGML v1.0//EN
CALSCALE:GREGORIAN
METHOD:PUBLISH
X-WR-CALNAME:Empower Yourself
X-ORIGINAL-URL:https://empower-yourself.today
X-WR-CALDESC:Évènements pour Empower Yourself
REFRESH-INTERVAL;VALUE=DURATION:PT1H
X-Robots-Tag:noindex
X-PUBLISHED-TTL:PT1H
BEGIN:VTIMEZONE
TZID:Europe/Brussels
BEGIN:DAYLIGHT
TZOFFSETFROM:+0100
TZOFFSETTO:+0200
TZNAME:CEST
DTSTART:20200329T010000
END:DAYLIGHT
BEGIN:STANDARD
TZOFFSETFROM:+0200
TZOFFSETTO:+0100
TZNAME:CET
DTSTART:20201025T010000
END:STANDARD
BEGIN:DAYLIGHT
TZOFFSETFROM:+0100
TZOFFSETTO:+0200
TZNAME:CEST
DTSTART:20210328T010000
END:DAYLIGHT
BEGIN:STANDARD
TZOFFSETFROM:+0200
TZOFFSETTO:+0100
TZNAME:CET
DTSTART:20211031T010000
END:STANDARD
BEGIN:DAYLIGHT
TZOFFSETFROM:+0100
TZOFFSETTO:+0200
TZNAME:CEST
DTSTART:20220327T010000
END:DAYLIGHT
BEGIN:STANDARD
TZOFFSETFROM:+0200
TZOFFSETTO:+0100
TZNAME:CET
DTSTART:20221030T010000
END:STANDARD
END:VTIMEZONE
BEGIN:VEVENT
DTSTART;TZID=Europe/Brussels:20211001T200000
DTEND;TZID=Europe/Brussels:20211001T220000
DTSTAMP:20260421T134722
CREATED:20210823T080654Z
LAST-MODIFIED:20210926T003429Z
UID:40342-1633118400-1633125600@empower-yourself.today
SUMMARY:COMPLET - Initiation à la Diksha
DESCRIPTION:La Diksha est une bénédiction de Lumière Divine\, à pratiquer pour soi et à partager. \n\nPratiquée comme une mini-séance de Reiki\, la Diksha est une bénédiction de Lumière Divine\, d’une douceur mais aussi d’une efficacité incroyable ! Durant cette initiation\, tu apprendras ce qu’est la Diksha\, quand et à quoi elle peut servir. Ensuite\, tu seras initié(e) afin de pouvoir la pratiquer toi-même\, tant pour toi que pour tes proches. Elle constitue pour nous un outil indispensable\, qui devrait être connu de tous. C’est entre autres pour cela que cet atelier est gratuit. \nPour des raisons d’organisation\, nous vous demandons quand même de bien vouloir vous inscrire.
URL:https://empower-yourself.today/event/initiation-a-la-diksha-2109/
LOCATION:Mireille Soudan & Cédric Dufour – Empower Yourself\, 68 Avenue de Selliers de Moranville\, Berchem-Sainte-Agathe\, Bruxelles\, 1082\, Belgium
CATEGORIES:meditation-et-developpement-personnel,reiki
END:VEVENT
BEGIN:VEVENT
DTSTART;TZID=Europe/Brussels:20211015T190000
DTEND;TZID=Europe/Brussels:20211017T170000
DTSTAMP:20260421T134722
CREATED:20210826T094605Z
LAST-MODIFIED:20210826T111053Z
UID:40359-1634324400-1634490000@empower-yourself.today
SUMMARY:Formation de maîtrise en Reiki Unitaire\, Reiki du Son
DESCRIPTION:Cette formation vous permettra de devenir Praticien\, puis maître en Reiki Unitaire\, Reiki du Son. 1 week-end\, puis pratique et supervision.\n\n\nLe Reiki Unitaire®\, Reiki du SON® est une formation de Maîtrise qui dure 3 jours.  \nElle comporte 4 initiations à 25 symboles\, ouvre les chakras\, des mains\, de la gorge\,… Elle met l’accent sur la puissance multidimensionnelle de ce Reiki et vous servira déjà durant ces 3 jours. \nAu bout de la formation\, et en fonction de votre rythme d’intégration\, vous recevrez deux manuels et deux diplômes qui vous permettront\, à votre tour\, de donner des séances Reiki et d’enseigner la technique.
URL:https://empower-yourself.today/event/formation-de-maitrise-en-reiki-unitaire-reiki-du-son/
LOCATION:Chez Cédric – Empower Yourself\, 68 Avenue de Selliers de Moranville\, Berchem-Sainte-Agathe\, Bruxelles\, 1082\, Belgium
CATEGORIES:reiki
ATTACH;FMTTYPE=image/jpeg:https://empower-yourself.today/wp-content/uploads/2021/08/1e37ad441547c92fcbc19c5bc70510ab-C5qhUS.tmp_.jpg
END:VEVENT
BEGIN:VEVENT
DTSTART;TZID=Europe/Brussels:20211022T200000
DTEND;TZID=Europe/Brussels:20211022T220000
DTSTAMP:20260421T134722
CREATED:20210930T224704Z
LAST-MODIFIED:20211001T131722Z
UID:40406-1634932800-1634940000@empower-yourself.today
SUMMARY:Initiation à la Diksha
DESCRIPTION:La Diksha est une bénédiction de Lumière Divine\, à pratiquer pour soi et à partager.\n\nLa Diksha est une bénédiction de Lumière Divine\, à pratiquer pour soi et à partager. \nPratiquée comme une mini-séance de Reiki\, la Diksha est une bénédiction de Lumière Divine\, d’une douceur mais aussi d’une efficacité incroyable ! Durant cette initiation\, tu apprendras ce qu’est la Diksha\, quand et à quoi elle peut servir. Ensuite\, tu seras initié(e) afin de pouvoir la pratiquer toi-même\, tant pour toi que pour tes proches. Elle constitue pour nous un outil indispensable\, qui devrait être connu de tous. C’est entre autres pour cela que cet atelier est gratuit. \nPour des raisons d’organisation\, nous vous demandons quand même de bien vouloir vous inscrire.
URL:https://empower-yourself.today/event/initiation-a-la-diksha-2110/
LOCATION:Mireille Soudan & Cédric Dufour – Empower Yourself\, 68 Avenue de Selliers de Moranville\, Berchem-Sainte-Agathe\, Bruxelles\, 1082\, Belgium
CATEGORIES:meditation-et-developpement-personnel,reiki
END:VEVENT
BEGIN:VEVENT
DTSTART;TZID=Europe/Brussels:20211023T093000
DTEND;TZID=Europe/Brussels:20211023T113000
DTSTAMP:20260421T134722
CREATED:20211008T121905Z
LAST-MODIFIED:20211008T122637Z
UID:40420-1634981400-1634988600@empower-yourself.today
SUMMARY:Partages multiples
DESCRIPTION:Partages multiples\n\n\nPartages d’expériences\, d’idées\, de valeurs\,… \nOuvert à tous nos amis / clients / élèves / partenaires  \nDe manière informelle lors d’un petit déjeuner\, puis de manière plus formelle avec un cercle de parole. \nNous tenons à ce que cette rencontre soit réellement ouverte à tous et donc purement gratuite. \nNéanmoins\, nous savons que certains d’entre vous seront heureux d’amener quelque chose à partager pour le petit-déjeuner. Merci de nous prévenir (via les tickets d’inscription); cela nous permettra de mieux nous organiser et de ne pas gaspiller.
URL:https://empower-yourself.today/event/partages-multiples/
LOCATION:Mireille Soudan & Cédric Dufour – Empower Yourself\, 68 Avenue de Selliers de Moranville\, Berchem-Sainte-Agathe\, Bruxelles\, 1082\, Belgium
CATEGORIES:meditation-et-developpement-personnel,reiki,tai-chi
ATTACH;FMTTYPE=image/jpeg:https://empower-yourself.today/wp-content/uploads/2021/10/Joie-luca-upper-Z-4kOr93RCI-unsplash-scaled.jpg
END:VEVENT
END:VCALENDAR