BEGIN:VCALENDAR
VERSION:2.0
PRODID:-//Empower Yourself - ECPv6.15.16//NONSGML v1.0//EN
CALSCALE:GREGORIAN
METHOD:PUBLISH
X-WR-CALNAME:Empower Yourself
X-ORIGINAL-URL:https://empower-yourself.today
X-WR-CALDESC:Évènements pour Empower Yourself
REFRESH-INTERVAL;VALUE=DURATION:PT1H
X-Robots-Tag:noindex
X-PUBLISHED-TTL:PT1H
BEGIN:VTIMEZONE
TZID:Europe/London
BEGIN:DAYLIGHT
TZOFFSETFROM:+0000
TZOFFSETTO:+0100
TZNAME:BST
DTSTART:20240331T010000
END:DAYLIGHT
BEGIN:STANDARD
TZOFFSETFROM:+0100
TZOFFSETTO:+0000
TZNAME:GMT
DTSTART:20241027T010000
END:STANDARD
BEGIN:DAYLIGHT
TZOFFSETFROM:+0000
TZOFFSETTO:+0100
TZNAME:BST
DTSTART:20250330T010000
END:DAYLIGHT
BEGIN:STANDARD
TZOFFSETFROM:+0100
TZOFFSETTO:+0000
TZNAME:GMT
DTSTART:20251026T010000
END:STANDARD
BEGIN:DAYLIGHT
TZOFFSETFROM:+0000
TZOFFSETTO:+0100
TZNAME:BST
DTSTART:20260329T010000
END:DAYLIGHT
BEGIN:STANDARD
TZOFFSETFROM:+0100
TZOFFSETTO:+0000
TZNAME:GMT
DTSTART:20261025T010000
END:STANDARD
END:VTIMEZONE
BEGIN:VEVENT
DTSTART;TZID=Europe/London:20250329T100000
DTEND;TZID=Europe/London:20250329T120000
DTSTAMP:20260421T100021
CREATED:20250226T083501Z
LAST-MODIFIED:20250226T083827Z
UID:42352-1743242400-1743249600@empower-yourself.today
SUMMARY:Deep Alignement for the Connection to the Inner Peace
DESCRIPTION:Tiefe Ausrichtung für die Verbindung zum inneren Frieden\n\n\n¨¨¨GERMAN BELOW \nInner centering and inner peace are of crucial importance in today’s fast-paced world to bring balance and harmony to your life. Inner balance and harmony affect our health and well-being on every level. They empower us to reduce stress\, manage our thoughts and emotions\, and establish a deeper connection with our true selves. \n  \nIn this 2‑hour workshop\, we provide you with a safe space through exercises and guided meditation where you can deeply center yourself and realign to strengthen your connection to inner peace. \n  \nNo prior experience is needed. If you would like to join us\, you are warmly welcome. \nWe are very much looking forward to seeing you ! \nRebecca Thürig & Cédric Dufour \n*** \nInnere Zentrierung und innerer Frieden sind in der heutigen schnellebigen Welt von entscheidender Bedeutung\, um Balance und Harmonie in dein Leben zu bringen. \n  \nInnere Balance und Harmonie beeinflussen unsere Gesundheit und unser Wohlbefinden auf allen Ebenen mit. Sie befähigen uns\, Stress zu reduzieren\, unsere Gedanken und Emotionen zu bewältigen und eine tiefere Verbindung zu unserem wahren Selbst herzustellen. \n  \nIn diesem 2-stündigen Workshop bieten wir dir mittels Übungen und einer geführten Meditation einen sicheren Ort\, wo du dich tief zentrieren und dich neu ausrichten kannst\, um die Verbindung zu deinem inneren Frieden zu stärken. \n  \nDu brauchst keine Vorkenntnisse. Wenn du mit dabei sein möchtest\, dann f¨ühl dich herzlich willkommen. \nWir freuen uns sehr auf dich! \nRebecca Thürig & Cédric Dufour
URL:https://empower-yourself.today/event/deep-alignement-for-the-connection-to-the-inner-peace/
CATEGORIES:meditation-et-developpement-personnel
ATTACH;FMTTYPE=image/jpeg:https://empower-yourself.today/wp-content/uploads/2025/02/b31d69324d82c7816b8aff2bd696afdb-cSG9uF.tmp_.jpg
END:VEVENT
END:VCALENDAR