BEGIN:VCALENDAR
VERSION:2.0
PRODID:-//Empower Yourself - ECPv6.15.16//NONSGML v1.0//EN
CALSCALE:GREGORIAN
METHOD:PUBLISH
X-WR-CALNAME:Empower Yourself
X-ORIGINAL-URL:https://empower-yourself.today
X-WR-CALDESC:Évènements pour Empower Yourself
REFRESH-INTERVAL;VALUE=DURATION:PT1H
X-Robots-Tag:noindex
X-PUBLISHED-TTL:PT1H
BEGIN:VTIMEZONE
TZID:Europe/Brussels
BEGIN:DAYLIGHT
TZOFFSETFROM:+0100
TZOFFSETTO:+0200
TZNAME:CEST
DTSTART:20240331T010000
END:DAYLIGHT
BEGIN:STANDARD
TZOFFSETFROM:+0200
TZOFFSETTO:+0100
TZNAME:CET
DTSTART:20241027T010000
END:STANDARD
BEGIN:DAYLIGHT
TZOFFSETFROM:+0100
TZOFFSETTO:+0200
TZNAME:CEST
DTSTART:20250330T010000
END:DAYLIGHT
BEGIN:STANDARD
TZOFFSETFROM:+0200
TZOFFSETTO:+0100
TZNAME:CET
DTSTART:20251026T010000
END:STANDARD
BEGIN:DAYLIGHT
TZOFFSETFROM:+0100
TZOFFSETTO:+0200
TZNAME:CEST
DTSTART:20260329T010000
END:DAYLIGHT
BEGIN:STANDARD
TZOFFSETFROM:+0200
TZOFFSETTO:+0100
TZNAME:CET
DTSTART:20261025T010000
END:STANDARD
END:VTIMEZONE
BEGIN:VEVENT
DTSTART;TZID=Europe/Brussels:20250320T190000
DTEND;TZID=Europe/Brussels:20250320T203000
DTSTAMP:20260421T100935
CREATED:20250202T185228Z
LAST-MODIFIED:20250209T200210Z
UID:42302-1742497200-1742502600@empower-yourself.today
SUMMARY:"La Présence Pure" de Christian Bobin
DESCRIPTION:Lecture d’extraits du livre et deux chants de Shalima par Françoise Ponthier\, comédienne-chanteuse…\n\n\n« Je suis né dans un monde qui commençait à ne plus vouloir entendre parler de la mort et qui est aujourd’hui parvenu à ses fins\, sans comprendre qu’il s’est du coup condamné à ne plus entendre parler de la grâce. » \nFrançoise Ponthier vient nous présenter une lecture d’extraits du livre de Christian Bobin et deux chants de Shalima. \nPassionnée de la connaissance de l’être et de la vie\, elle s’est spécialisée dans le travail du corps et de la voix dans leur expression scénique. \nTouchée par ce poète\, Françoise trouve qu’il va « au cœur de la Vie dans son aspect le plus simplement matériel\, et en extrait l’essence qui nourrit l’âme ». \nPar ailleurs\, elle a aussi toujours été touchée par ce qui est communément appelé « maladie d’Alzheimer » et c’est pour elle d’aborder et de considérer ce sujet d’une manière différente. \n  \nAu programme : \n\nMéditation centrage\nLecture de « La Présence Pure » de Christian Bobin\nPartages dans l’authenticité de nos ressentis et de nos cœurs\n\n  \nSoirée organisée dans le cadre de « Je Vis Ma Passion ». \nPublic adulte\, participation au chapeau.
URL:https://empower-yourself.today/event/la-presence-pure-de-christian-bobin/
LOCATION:Mireille Soudan & Cédric Dufour – Empower Yourself\, 68 Avenue de Selliers de Moranville\, Berchem-Sainte-Agathe\, Bruxelles\, 1082\, Belgium
CATEGORIES:meditation-et-developpement-personnel
ATTACH;FMTTYPE=image/jpeg:https://empower-yourself.today/wp-content/uploads/2025/02/d5808425ef5a9f02ef72314314e0b61e-E7iUHB.tmp_.jpg
END:VEVENT
END:VCALENDAR