BEGIN:VCALENDAR
VERSION:2.0
PRODID:-//Empower Yourself - ECPv6.15.16//NONSGML v1.0//EN
CALSCALE:GREGORIAN
METHOD:PUBLISH
X-ORIGINAL-URL:https://empower-yourself.today
X-WR-CALDESC:Évènements pour Empower Yourself
REFRESH-INTERVAL;VALUE=DURATION:PT1H
X-Robots-Tag:noindex
X-PUBLISHED-TTL:PT1H
BEGIN:VTIMEZONE
TZID:Europe/Brussels
BEGIN:DAYLIGHT
TZOFFSETFROM:+0100
TZOFFSETTO:+0200
TZNAME:CEST
DTSTART:20240331T010000
END:DAYLIGHT
BEGIN:STANDARD
TZOFFSETFROM:+0200
TZOFFSETTO:+0100
TZNAME:CET
DTSTART:20241027T010000
END:STANDARD
BEGIN:DAYLIGHT
TZOFFSETFROM:+0100
TZOFFSETTO:+0200
TZNAME:CEST
DTSTART:20250330T010000
END:DAYLIGHT
BEGIN:STANDARD
TZOFFSETFROM:+0200
TZOFFSETTO:+0100
TZNAME:CET
DTSTART:20251026T010000
END:STANDARD
BEGIN:DAYLIGHT
TZOFFSETFROM:+0100
TZOFFSETTO:+0200
TZNAME:CEST
DTSTART:20260329T010000
END:DAYLIGHT
BEGIN:STANDARD
TZOFFSETFROM:+0200
TZOFFSETTO:+0100
TZNAME:CET
DTSTART:20261025T010000
END:STANDARD
END:VTIMEZONE
BEGIN:VEVENT
DTSTART;TZID=Europe/Brussels:20250313T200000
DTEND;TZID=Europe/Brussels:20250313T210000
DTSTAMP:20260421T100349
CREATED:20250131T232529Z
LAST-MODIFIED:20250201T192859Z
UID:42292-1741896000-1741899600@empower-yourself.today
SUMMARY:Soirée contes enchantés: Le Destin d'Ogoa
DESCRIPTION:Avec simplicité\, chaleur et spontanéité\, Chloé\, accompagnée de Marie-Laurence\, tisse un univers de couleurs\, d’émotions et de surprises.\n\n\nQuand la Grande Créatrice lui a soufflé la vie\, Ogoa a choisi son destin : devenir la plus grande magicienne de tous les temps. En contrepartie\, Ogoa a dû renoncer à devenir mère. Celle qui détient entre ses mains toute la puissance du ciel et de la terre est incapable d’accomplir ce qui est à la portée de la plus simple des femmes enfanter. \n \nLe Destin d’Ogoa\, c’est la quête obstinée d’une femme prête à tout pour changer sa destinée. \n \nPour donner vie à cette fabuleuse histoire\, les voix de la conteuse\, de la chanteuse et du piano s’entrelaceront dans un récit intense aux envolées lyriques. \nAvec: \nChloé Houyoux: La conteuse \nMarie-Laurence Lambrecht: la chanteuse \nFrançois Lefèvre: le pianiste \n \nChloé accueille les histoires qui viennent se déposer en elle. A partir d’une idée\, elle entre par une petite porte dans un univers qu’elle déploie\, affine\, élargit. Quand l’univers est assez large\, elle vous y invite. \n \nAvec chaleur et spontanéité\, elle tisse un spectacle d’histoires et de chants qui a son tour tisse des liens entre l’ici-bas et un ailleurs d’imaginaire infini. \n \nSoirée organisée dans le cadre de « Je Vis Ma Passion ». \nPublic adulte
URL:https://empower-yourself.today/event/soiree-contes-enchantes-le-destin-dogoa/
LOCATION:Mireille Soudan & Cédric Dufour – Empower Yourself\, 68 Avenue de Selliers de Moranville\, Berchem-Sainte-Agathe\, Bruxelles\, 1082\, Belgium
CATEGORIES:meditation-et-developpement-personnel
ATTACH;FMTTYPE=image/jpeg:https://empower-yourself.today/wp-content/uploads/2025/02/059c41d8c397c07cbf8325119dcfc25f-ce4uul.tmp_.jpg
END:VEVENT
END:VCALENDAR