BEGIN:VCALENDAR
VERSION:2.0
PRODID:-//Empower Yourself - ECPv6.15.16//NONSGML v1.0//EN
CALSCALE:GREGORIAN
METHOD:PUBLISH
X-WR-CALNAME:Empower Yourself
X-ORIGINAL-URL:https://empower-yourself.today
X-WR-CALDESC:Évènements pour Empower Yourself
REFRESH-INTERVAL;VALUE=DURATION:PT1H
X-Robots-Tag:noindex
X-PUBLISHED-TTL:PT1H
BEGIN:VTIMEZONE
TZID:Europe/Brussels
BEGIN:DAYLIGHT
TZOFFSETFROM:+0100
TZOFFSETTO:+0200
TZNAME:CEST
DTSTART:20230326T010000
END:DAYLIGHT
BEGIN:STANDARD
TZOFFSETFROM:+0200
TZOFFSETTO:+0100
TZNAME:CET
DTSTART:20231029T010000
END:STANDARD
BEGIN:DAYLIGHT
TZOFFSETFROM:+0100
TZOFFSETTO:+0200
TZNAME:CEST
DTSTART:20240331T010000
END:DAYLIGHT
BEGIN:STANDARD
TZOFFSETFROM:+0200
TZOFFSETTO:+0100
TZNAME:CET
DTSTART:20241027T010000
END:STANDARD
BEGIN:DAYLIGHT
TZOFFSETFROM:+0100
TZOFFSETTO:+0200
TZNAME:CEST
DTSTART:20250330T010000
END:DAYLIGHT
BEGIN:STANDARD
TZOFFSETFROM:+0200
TZOFFSETTO:+0100
TZNAME:CET
DTSTART:20251026T010000
END:STANDARD
END:VTIMEZONE
BEGIN:VEVENT
DTSTART;TZID=Europe/Brussels:20241010T203000
DTEND;TZID=Europe/Brussels:20241010T220000
DTSTAMP:20260421T170920
CREATED:20240729T220304Z
LAST-MODIFIED:20240928T183110Z
UID:42008-1728592200-1728597600@empower-yourself.today
SUMMARY:Concert Di-a-phonie - COMPLET - Liste d'attente ouverte
DESCRIPTION:Gonzalo Rodriguez est un musicien de talent qui viendra nous offrir un concert au côté de Di-a-phonie. \nDi–a–phonie est un duo atypique composé de Julien Delbrouck à la clarinette basse et Gonzalo Rodriguez à la guitare électrique. Établis en Belgique\, ces deux musiciens façonnent l’identité sonore singulière de Di–a–phonie grâce à leur originalité et à un répertoire personnel.\nLeur passion commune pour le jazz et les musiques improvisées se mêle à leurs parcours individuels\, touchant à une variété de genres musicaux allant des musiques du monde à la comédie musicale\, en passant par le classique et le rock. Cette diversité fait de leur duo une expérience unique\, offrant une plateforme intimiste où chacun des membres peut s’exprimer dans un univers musical qui lui est propre. \nDi–a–phonie présente un répertoire entièrement original et éclectique\, des compositions reflétant leurs expériences personnelles. Parmi leurs prestations\, le duo a notamment participé à des concerts organisés par l’association de Jazz belge\, Les Lundis d’Hortense. \n\n\n\nSoirée organisée dans le cadre de « Je Vis Ma Passion ». \nPublic adulte\nPrix libre
URL:https://empower-yourself.today/event/concert-di-a-phonie/
LOCATION:Mireille Soudan & Cédric Dufour – Empower Yourself\, 68 Avenue de Selliers de Moranville\, Berchem-Sainte-Agathe\, Bruxelles\, 1082\, Belgium
CATEGORIES:meditation-et-developpement-personnel
ATTACH;FMTTYPE=image/jpeg:https://empower-yourself.today/wp-content/uploads/2024/07/photo_2024-08-16_18-51-42.jpg
END:VEVENT
END:VCALENDAR