BEGIN:VCALENDAR
VERSION:2.0
PRODID:-//Empower Yourself - ECPv6.15.16//NONSGML v1.0//EN
CALSCALE:GREGORIAN
METHOD:PUBLISH
X-WR-CALNAME:Empower Yourself
X-ORIGINAL-URL:https://empower-yourself.today
X-WR-CALDESC:Évènements pour Empower Yourself
REFRESH-INTERVAL;VALUE=DURATION:PT1H
X-Robots-Tag:noindex
X-PUBLISHED-TTL:PT1H
BEGIN:VTIMEZONE
TZID:Europe/Brussels
BEGIN:DAYLIGHT
TZOFFSETFROM:+0100
TZOFFSETTO:+0200
TZNAME:CEST
DTSTART:20230326T010000
END:DAYLIGHT
BEGIN:STANDARD
TZOFFSETFROM:+0200
TZOFFSETTO:+0100
TZNAME:CET
DTSTART:20231029T010000
END:STANDARD
BEGIN:DAYLIGHT
TZOFFSETFROM:+0100
TZOFFSETTO:+0200
TZNAME:CEST
DTSTART:20240331T010000
END:DAYLIGHT
BEGIN:STANDARD
TZOFFSETFROM:+0200
TZOFFSETTO:+0100
TZNAME:CET
DTSTART:20241027T010000
END:STANDARD
BEGIN:DAYLIGHT
TZOFFSETFROM:+0100
TZOFFSETTO:+0200
TZNAME:CEST
DTSTART:20250330T010000
END:DAYLIGHT
BEGIN:STANDARD
TZOFFSETFROM:+0200
TZOFFSETTO:+0100
TZNAME:CET
DTSTART:20251026T010000
END:STANDARD
END:VTIMEZONE
BEGIN:VEVENT
DTSTART;TZID=Europe/Brussels:20240926T200000
DTEND;TZID=Europe/Brussels:20240926T210000
DTSTAMP:20260421T184459
CREATED:20240801T081131Z
LAST-MODIFIED:20240801T081226Z
UID:42032-1727380800-1727384400@empower-yourself.today
SUMMARY:Ombre et Lumière
DESCRIPTION:Chloé\, jeune maman pétillante\, passionnée de théâtre et d’histoires contées nous revient avec un nouveau thème « Ombre et Lumière ».\n\n\nA chaque spectacle\, Chloé nous emmène dans un autre univers.\nContes\, chants\, et autres surprises lui permettent d’emmener son public avec elle\, avec une aisance impressionnante. \n  \nSoirée organisée dans le cadre de « Je Vis Ma Passion ». \nPublic adulte
URL:https://empower-yourself.today/event/ombre-et-lumiere/
LOCATION:Mireille Soudan & Cédric Dufour – Empower Yourself\, 68 Avenue de Selliers de Moranville\, Berchem-Sainte-Agathe\, Bruxelles\, 1082\, Belgium
CATEGORIES:meditation-et-developpement-personnel
ATTACH;FMTTYPE=image/jpeg:https://empower-yourself.today/wp-content/uploads/2024/08/1494d603f5a016d906b5da274c1c1089-MwYxpX.tmp_.jpg
END:VEVENT
END:VCALENDAR