BEGIN:VCALENDAR
VERSION:2.0
PRODID:-//Empower Yourself - ECPv6.15.16//NONSGML v1.0//EN
CALSCALE:GREGORIAN
METHOD:PUBLISH
X-ORIGINAL-URL:https://empower-yourself.today
X-WR-CALDESC:Évènements pour Empower Yourself
REFRESH-INTERVAL;VALUE=DURATION:PT1H
X-Robots-Tag:noindex
X-PUBLISHED-TTL:PT1H
BEGIN:VTIMEZONE
TZID:Europe/Brussels
BEGIN:DAYLIGHT
TZOFFSETFROM:+0100
TZOFFSETTO:+0200
TZNAME:CEST
DTSTART:20230326T010000
END:DAYLIGHT
BEGIN:STANDARD
TZOFFSETFROM:+0200
TZOFFSETTO:+0100
TZNAME:CET
DTSTART:20231029T010000
END:STANDARD
BEGIN:DAYLIGHT
TZOFFSETFROM:+0100
TZOFFSETTO:+0200
TZNAME:CEST
DTSTART:20240331T010000
END:DAYLIGHT
BEGIN:STANDARD
TZOFFSETFROM:+0200
TZOFFSETTO:+0100
TZNAME:CET
DTSTART:20241027T010000
END:STANDARD
BEGIN:DAYLIGHT
TZOFFSETFROM:+0100
TZOFFSETTO:+0200
TZNAME:CEST
DTSTART:20250330T010000
END:DAYLIGHT
BEGIN:STANDARD
TZOFFSETFROM:+0200
TZOFFSETTO:+0100
TZNAME:CET
DTSTART:20251026T010000
END:STANDARD
END:VTIMEZONE
BEGIN:VEVENT
DTSTART;TZID=Europe/Brussels:20240530T203000
DTEND;TZID=Europe/Brussels:20240530T213000
DTSTAMP:20260422T001059
CREATED:20240508T074110Z
LAST-MODIFIED:20240513T160221Z
UID:41904-1717101000-1717104600@empower-yourself.today
SUMMARY:Love is my road
DESCRIPTION:Laura Gelfged\, photographe passionnée\, vient nous parler de sa passion et de ses voyages.\n\n\nLaura Gelfged est une artiste et photographe belge passionnée\, spécialisée dans les voyages et les mariages à l’étranger depuis 8 ans. Elle parcourt la planète et ramène des souvenirs inoubliables de scènes de nature impressionnantes et d’expressions d’amour. \nRejoignez-nous pour entendre parler de cette passion qui l’a emmené aux quatre coins du monde ! \nLaissez-vous guider par son partage et dans son mantra : « Love is my road » \n  \nSoirée organisée dans le cadre de « Je Vis Ma Passion ». \nPrix libre
URL:https://empower-yourself.today/event/love-is-my-road/
LOCATION:Mireille Soudan & Cédric Dufour – Empower Yourself\, 68 Avenue de Selliers de Moranville\, Berchem-Sainte-Agathe\, Bruxelles\, 1082\, Belgium
CATEGORIES:meditation-et-developpement-personnel
ATTACH;FMTTYPE=image/jpeg:https://empower-yourself.today/wp-content/uploads/2024/05/6ec1746f38d3be4cd81fcfce143f8278-IymYVo.tmp_.jpg
END:VEVENT
END:VCALENDAR