BEGIN:VCALENDAR
VERSION:2.0
PRODID:-//Empower Yourself - ECPv6.15.16//NONSGML v1.0//EN
CALSCALE:GREGORIAN
METHOD:PUBLISH
X-WR-CALNAME:Empower Yourself
X-ORIGINAL-URL:https://empower-yourself.today
X-WR-CALDESC:Évènements pour Empower Yourself
REFRESH-INTERVAL;VALUE=DURATION:PT1H
X-Robots-Tag:noindex
X-PUBLISHED-TTL:PT1H
BEGIN:VTIMEZONE
TZID:Europe/Brussels
BEGIN:DAYLIGHT
TZOFFSETFROM:+0100
TZOFFSETTO:+0200
TZNAME:CEST
DTSTART:20230326T010000
END:DAYLIGHT
BEGIN:STANDARD
TZOFFSETFROM:+0200
TZOFFSETTO:+0100
TZNAME:CET
DTSTART:20231029T010000
END:STANDARD
BEGIN:DAYLIGHT
TZOFFSETFROM:+0100
TZOFFSETTO:+0200
TZNAME:CEST
DTSTART:20240331T010000
END:DAYLIGHT
BEGIN:STANDARD
TZOFFSETFROM:+0200
TZOFFSETTO:+0100
TZNAME:CET
DTSTART:20241027T010000
END:STANDARD
BEGIN:DAYLIGHT
TZOFFSETFROM:+0100
TZOFFSETTO:+0200
TZNAME:CEST
DTSTART:20250330T010000
END:DAYLIGHT
BEGIN:STANDARD
TZOFFSETFROM:+0200
TZOFFSETTO:+0100
TZNAME:CET
DTSTART:20251026T010000
END:STANDARD
END:VTIMEZONE
BEGIN:VEVENT
DTSTART;TZID=Europe/Brussels:20240429T180000
DTEND;TZID=Europe/Brussels:20240516T191500
DTSTAMP:20260422T001022
CREATED:20240413T073000Z
LAST-MODIFIED:20240413T073400Z
UID:41847-1714413600-1715886900@empower-yourself.today
SUMMARY:Vibrez l'Abondance
DESCRIPTION:Claudette Poulin et Mireille Soudan vous emmènent dans un voyage intérieur de 21 jours : Destination l’Abondance en Action !\n\n\nPassionnées et rigoureuses\, pédagogues et bienveillantes\, \nClaudette Poulin et Mireille Soudan vous invitent avec enthousiasme \nDANS UN VOYAGE INTÉRIEUR DE 12 JOURS \nDestination l’Abondance en Action ! \n  \nDeux spécialistes se mettent à votre service ! \nClaudette Poulin\, gestionnaire efficace et orientée vers les résultats\, possède plus de 30 ans d’expérience pertinente au niveau de la gestion\, de la direction\, du financement et de la comptabilité dans les secteurs cinématographiques\, télévisuels et corporatifs. \nElle cumule plus de 20 ans d’expertise en développement de marketing de réseau. \nDepuis 20 ans également\, elle développe et met en pratique au quotidien les principes de saine gestion financière\, tels qu’ils seront partagés dans l’Atelier Vibrez l’Abondance. \n  \nMireille Soudan a travaillé au marketing\, à la logistique et au contrôle de gestion pendant près de 15 ans dans de grandes entreprises financières\, dont une holding internationale. \nElle co-fonde ensuite Empower-Yourself dont le but est d’aider les individus et les entrepreneurs à se transformer et créer\, avec confiance et puissance\, un futur sans limite. \nSpécialisée dans l’identification puis la dissolution des blocages émotionnels\, Mireille propose une approche holistique originale qui contribue au caractère unique de l’Atelier Vibrez l’Abondance. \n  \nL’engagement et l’assiduité sont les clés du succès de cet atelier. \nVeuillez donc noter qu’aucun enregistrement ne vous sera envoyé. \nEn cas d’absence imprévue\, veuillez prendre contact avec l’une des mentors. \n  \nD’ici la fin du programme \n\nL’Abondance sera démystifiée.\nVous aurez une meilleure compréhension de vos schémas : quels sont vos systèmes de croyances\, leurs limites ?\nTous les stress émotionnels liés à l’Abondance auront été identifiés et vous repartirez avec des outils simples et efficaces pour les apaiser au quotidien et déployer vos ressources intérieures.\nVous aurez intégré les principes de discipline d’une gestion financière saine qui vous correspond.\nEt tout cela afin que vous ayez toutes les clés pour Devenir l’Architecte de VOTRE VIE !
URL:https://empower-yourself.today/event/vibrez-labondance/
CATEGORIES:meditation-et-developpement-personnel
ATTACH;FMTTYPE=image/jpeg:https://empower-yourself.today/wp-content/uploads/2024/04/053f51eb497c8948115670ee05933a79-XVnIuz.tmp_.jpg
END:VEVENT
BEGIN:VEVENT
DTSTART;TZID=Europe/Brussels:20240511T100000
DTEND;TZID=Europe/Brussels:20240511T113000
DTSTAMP:20260422T001022
CREATED:20240229T102106Z
LAST-MODIFIED:20240229T102158Z
UID:41755-1715421600-1715427000@empower-yourself.today
SUMMARY:Initiation à la Diksha
DESCRIPTION:L’outil le plus puissant pour apaiser… en seulement 2 minutes !\n\n\nLa Diksha est une bénédiction de Lumière Divine\, à pratiquer pour soi et à partager. \nPratiquée comme une mini-séance de Reiki\, la Diksha est une bénédiction de Lumière Divine\, d’une douceur\, mais aussi d’une efficacité incroyable ! Durant cette initiation\, tu apprendras ce qu’est la Diksha\, quand et à quoi elle peut servir. Ensuite\, tu seras initié(e) afin de pouvoir la pratiquer toi-même\, tant pour toi que pour tes proches. Elle constitue pour nous un outil indispensable\, qui devrait être connu de tous. C’est entre autres pour cela que cet atelier est gratuit. \nPour des raisons d’organisation\, nous vous demandons quand même de bien vouloir vous inscrire.
URL:https://empower-yourself.today/event/initiation-a-la-diksha-17/
LOCATION:Mireille Soudan & Cédric Dufour – Empower Yourself\, 68 Avenue de Selliers de Moranville\, Berchem-Sainte-Agathe\, Bruxelles\, 1082\, Belgium
CATEGORIES:meditation-et-developpement-personnel,reiki
ATTACH;FMTTYPE=image/jpeg:https://empower-yourself.today/wp-content/uploads/2024/02/64c8d7952608522ecd59c61af2fd9906-TOyMVt.tmp_.jpg
END:VEVENT
BEGIN:VEVENT
DTSTART;TZID=Europe/Brussels:20240511T170000
DTEND;TZID=Europe/Brussels:20240511T190000
DTSTAMP:20260422T001022
CREATED:20240505T063751Z
LAST-MODIFIED:20240505T063901Z
UID:41896-1715446800-1715454000@empower-yourself.today
SUMMARY:Comment optimiser la reprogrammation du cerveau?
DESCRIPTION:Une nouvelle technologie révolutionnaire pour optimiser le potentiel des voies neuronales. Les résultats ? De quoi Changer La Vie !\n\n\nVenez découvrir comment fonctionne le cerveau et sa capacité à se reprogrammer ! \nDurant la présentation\, nous vous ferons découvrir une technologie révolutionnaire pour optimiser le potentiel des voies neuronales. Il s’agit de la technologie de déclenchement vibrotactile haptique\, développée par un ingénieur canadien (d’origine indienne) depuis 12 ans\, il en a fait le pré-lancement le 8 novembre 2023. \nLes résultats ? Rien de moins que de Changer La Vie. \nSans aucun produit\, sans effets secondaire\, ni de contre-indications \nFacile à utiliser \n  \nAtelier organisé dans le cadre de « Garantir Son Bien-Etre Au Quotidien »
URL:https://empower-yourself.today/event/comment-optimiser-la-reprogrammation-du-cerveau/
LOCATION:Mireille Soudan & Cédric Dufour – Empower Yourself\, 68 Avenue de Selliers de Moranville\, Berchem-Sainte-Agathe\, Bruxelles\, 1082\, Belgium
CATEGORIES:meditation-et-developpement-personnel
ATTACH;FMTTYPE=image/jpeg:https://empower-yourself.today/wp-content/uploads/2024/05/8a4d7b74686e20912a95bf0273cef369-G8WASS.tmp_.jpg
END:VEVENT
END:VCALENDAR