BEGIN:VCALENDAR
VERSION:2.0
PRODID:-//Empower Yourself - ECPv6.15.16//NONSGML v1.0//EN
CALSCALE:GREGORIAN
METHOD:PUBLISH
X-ORIGINAL-URL:https://empower-yourself.today
X-WR-CALDESC:Évènements pour Empower Yourself
REFRESH-INTERVAL;VALUE=DURATION:PT1H
X-Robots-Tag:noindex
X-PUBLISHED-TTL:PT1H
BEGIN:VTIMEZONE
TZID:Europe/Brussels
BEGIN:DAYLIGHT
TZOFFSETFROM:+0100
TZOFFSETTO:+0200
TZNAME:CEST
DTSTART:20230326T010000
END:DAYLIGHT
BEGIN:STANDARD
TZOFFSETFROM:+0200
TZOFFSETTO:+0100
TZNAME:CET
DTSTART:20231029T010000
END:STANDARD
BEGIN:DAYLIGHT
TZOFFSETFROM:+0100
TZOFFSETTO:+0200
TZNAME:CEST
DTSTART:20240331T010000
END:DAYLIGHT
BEGIN:STANDARD
TZOFFSETFROM:+0200
TZOFFSETTO:+0100
TZNAME:CET
DTSTART:20241027T010000
END:STANDARD
BEGIN:DAYLIGHT
TZOFFSETFROM:+0100
TZOFFSETTO:+0200
TZNAME:CEST
DTSTART:20250330T010000
END:DAYLIGHT
BEGIN:STANDARD
TZOFFSETFROM:+0200
TZOFFSETTO:+0100
TZNAME:CET
DTSTART:20251026T010000
END:STANDARD
END:VTIMEZONE
BEGIN:VEVENT
DTSTART;TZID=Europe/Brussels:20240425T203000
DTEND;TZID=Europe/Brussels:20240425T220000
DTSTAMP:20260422T013437
CREATED:20240320T131304Z
LAST-MODIFIED:20240413T072952Z
UID:41778-1714077000-1714082400@empower-yourself.today
SUMMARY:Comment guider les adolescents vers la réussite et l'épanouissement ?
DESCRIPTION:Rejoignez-nous dans cette masterclass gratuite et contribuez activement à l’épanouissement des jeunes générations. Votre rôle est crucial !\n\n\nÊtes-vous\, confrontés à un sentiment d’impuissance face à la multitude de problématiques rencontrées durant l’adolescence de vos enfants? \nVous n’êtes pas seuls. \nLa bonne nouvelle\, c’est qu’il existe des stratégies éprouvées pour aider les personnes à surmonter ces obstacles et à exceller dans leur parcours éducatif et personnel. \n \nRejoignez Dr TK\, spécialiste de l’adolescence\, pour une session enrichissante et interactive vers une existence épanouie et une parentalité efficace ! \n \nSoirée organisée dans le cadre de « Je Vis Ma Passion ».
URL:https://empower-yourself.today/event/comment-guider-les-adolescents-vers-la-reussite-et-lepanouissement/
LOCATION:Mireille Soudan & Cédric Dufour – Empower Yourself\, 68 Avenue de Selliers de Moranville\, Berchem-Sainte-Agathe\, Bruxelles\, 1082\, Belgium
CATEGORIES:meditation-et-developpement-personnel
ATTACH;FMTTYPE=image/jpeg:https://empower-yourself.today/wp-content/uploads/2024/03/eab83c2e1fc3a6353e42d165506272b9-ay9OIY.tmp_.jpg
END:VEVENT
END:VCALENDAR