BEGIN:VCALENDAR
VERSION:2.0
PRODID:-//Empower Yourself - ECPv6.15.16//NONSGML v1.0//EN
CALSCALE:GREGORIAN
METHOD:PUBLISH
X-ORIGINAL-URL:https://empower-yourself.today
X-WR-CALDESC:Évènements pour Empower Yourself
REFRESH-INTERVAL;VALUE=DURATION:PT1H
X-Robots-Tag:noindex
X-PUBLISHED-TTL:PT1H
BEGIN:VTIMEZONE
TZID:Europe/Brussels
BEGIN:DAYLIGHT
TZOFFSETFROM:+0100
TZOFFSETTO:+0200
TZNAME:CEST
DTSTART:20230326T010000
END:DAYLIGHT
BEGIN:STANDARD
TZOFFSETFROM:+0200
TZOFFSETTO:+0100
TZNAME:CET
DTSTART:20231029T010000
END:STANDARD
BEGIN:DAYLIGHT
TZOFFSETFROM:+0100
TZOFFSETTO:+0200
TZNAME:CEST
DTSTART:20240331T010000
END:DAYLIGHT
BEGIN:STANDARD
TZOFFSETFROM:+0200
TZOFFSETTO:+0100
TZNAME:CET
DTSTART:20241027T010000
END:STANDARD
BEGIN:DAYLIGHT
TZOFFSETFROM:+0100
TZOFFSETTO:+0200
TZNAME:CEST
DTSTART:20250330T010000
END:DAYLIGHT
BEGIN:STANDARD
TZOFFSETFROM:+0200
TZOFFSETTO:+0100
TZNAME:CET
DTSTART:20251026T010000
END:STANDARD
END:VTIMEZONE
BEGIN:VEVENT
DTSTART;TZID=Europe/Brussels:20240412T200000
DTEND;TZID=Europe/Brussels:20240412T214500
DTSTAMP:20260422T030927
CREATED:20240304T181204Z
LAST-MODIFIED:20240320T122038Z
UID:41767-1712952000-1712958300@empower-yourself.today
SUMMARY:Voyage en Poésie - COMPLET - Liste d'attente ouverte
DESCRIPTION:Le voyage de l’écriture\, celui du temps\, du changement\, de la terre\, des enfants\, des états d’âme\, celui des rencontres et de l’amour.\n\n\nLes mots sont puissants quand ils viennent de loin. Mais pour qu’ils puissent émerger\, il est important de pouvoir s’arrêter. C’est ce que j’ai fait depuis quelques années.\nComme dit Christiane Singer … «Où cours-tu? Ne sais-tu pas que le ciel est en toi? ».\nDes événements compliqués – la vie n’étant pas toujours facile-\, l’ambiance du moment et l’âge avançant … Tous ces éléments ont contribué à ce que je décide de me poser\, de me permettre de penser\, de vivre le présent et de laisser parler mon crayon sur mes carnets de papier.\nEt lorsqu’on est bien ancré\, les pieds enracinés\, le corps aligné et la tête dans les étoiles\, les mots arrivent intensément\, reflets d’une vie intérieure dense et parfois ėtonnante.\nAlors depuis le début de l’ėté 2023\, je me suis mise à écrire avec beaucoup d’insistance. Et cette écriture\, venant de je ne sais où – si\, je sais\, mais c’est encore un secret -\, a contribué à ma re-naissance. Celle qui me permet de vouloir aussi aller à la rencontre des autres et de créer du lien dans ce nouveau monde qui re-naît lui aussi.\nEt puis\, il y a cet amour de la musique\, qui me vient de ma mère. Elle contribue à l’émergence de mon écriture et soutient la lecture de mes textes d’une façon particulière.\nJe vous invite à ce que nous fassions connaissance et vous convie à vous embarquer dans mon monde. Le voyage sera à la fois lourd et léger\, triste et gai\, doux et intense\, dépendamment des espaces dans lesquels je vous emmènerai. Celui de l’écriture\, celui du temps\, celui du changement\, celui de la terre\, celui des enfants\, celui des états d’âme\, celui des rencontres et celui de l’amour. \nPourquoi cet amour des mots et de l’interprétation de mes textes\, de la parole\, de l’expression verbale et de la rencontre d’autrui?\nPeut-être le fait d’être logopède et de donner aussi des formations en communication alternative\, d’être formée en thérapie systémique\, d’avoir fréquenté durant plusieurs années l’académie de déclamation et d’art dramatique de cette commune ou d’avoir joué pendant 20 ans dans une troupe de théâtre amateur …? Dieu seul sait! \nAlors\, si vous avez le souhait de voyager avec moi\, je vous invite à le faire ce jeudi 7 mars à 20h30. Je serai accueillie dans une charmante demeure par de charmantes personnes\, Cédric et Mireille\, au 68 de la rue Selliers de Moranville à Berchem-ste- Agathe. L’accueil se fera dès 20h15 pour que nous puissions démarrer bien à l’heure car l’embarquement sera quelque peu difficile une fois le voyage commencé. \n  \nSoirée organisée dans le cadre de « Je Vis Ma Passion ». \nPrix libre
URL:https://empower-yourself.today/event/voyage-en-poesie-2/
LOCATION:Mireille Soudan & Cédric Dufour – Empower Yourself\, 68 Avenue de Selliers de Moranville\, Berchem-Sainte-Agathe\, Bruxelles\, 1082\, Belgium
CATEGORIES:meditation-et-developpement-personnel
ATTACH;FMTTYPE=image/jpeg:https://empower-yourself.today/wp-content/uploads/2024/03/63f21bcaa2d5546ec62cd4b7de4a306d-lWDsKv.tmp_.jpg
END:VEVENT
END:VCALENDAR