BEGIN:VCALENDAR
VERSION:2.0
PRODID:-//Empower Yourself - ECPv6.15.16//NONSGML v1.0//EN
CALSCALE:GREGORIAN
METHOD:PUBLISH
X-WR-CALNAME:Empower Yourself
X-ORIGINAL-URL:https://empower-yourself.today
X-WR-CALDESC:Évènements pour Empower Yourself
REFRESH-INTERVAL;VALUE=DURATION:PT1H
X-Robots-Tag:noindex
X-PUBLISHED-TTL:PT1H
BEGIN:VTIMEZONE
TZID:Europe/Brussels
BEGIN:DAYLIGHT
TZOFFSETFROM:+0100
TZOFFSETTO:+0200
TZNAME:CEST
DTSTART:20230326T010000
END:DAYLIGHT
BEGIN:STANDARD
TZOFFSETFROM:+0200
TZOFFSETTO:+0100
TZNAME:CET
DTSTART:20231029T010000
END:STANDARD
BEGIN:DAYLIGHT
TZOFFSETFROM:+0100
TZOFFSETTO:+0200
TZNAME:CEST
DTSTART:20240331T010000
END:DAYLIGHT
BEGIN:STANDARD
TZOFFSETFROM:+0200
TZOFFSETTO:+0100
TZNAME:CET
DTSTART:20241027T010000
END:STANDARD
BEGIN:DAYLIGHT
TZOFFSETFROM:+0100
TZOFFSETTO:+0200
TZNAME:CEST
DTSTART:20250330T010000
END:DAYLIGHT
BEGIN:STANDARD
TZOFFSETFROM:+0200
TZOFFSETTO:+0100
TZNAME:CET
DTSTART:20251026T010000
END:STANDARD
END:VTIMEZONE
BEGIN:VEVENT
DTSTART;TZID=Europe/Brussels:20240404T203000
DTEND;TZID=Europe/Brussels:20240404T220000
DTSTAMP:20260422T013051
CREATED:20240227T222039Z
LAST-MODIFIED:20240302T002357Z
UID:41746-1712262600-1712268000@empower-yourself.today
SUMMARY:Art-Therapy
DESCRIPTION:Bonjour!\nJe m’appelle Aurélie Pinoy ; j’ai 21 ans et je suis passionnée d’art thérapie !\nJe suis étudiante en première année en science sociale de réadaptation spécialisée à l’aide aux enfants et jeunes de 0 à 25 ans. J’ai aussi suivi une formation d’art thérapie de trois mois et je compte faire un deuxième cycle à ce sujet pour me specialiser encore plus.\nJ’adore l’art et aider les gens depuis toute petite\, donc avoir quelque chose qui me permet de relier les deux me fascine.\nJe crois fortement au fait que l’art peut être un excellent outil thérapeutique et j’adorerais vous l’introduire. Pendant cette session\, j’aimerais vous parler de ce qu’est l’art thérapie exactement\, puis illustrer ceci avec des exercices simples que vous pourriez reproduire chez vous.\nAlors\, on se voit le quatre avril ? 🙂 \nSoirée organisée dans le cadre de « Je Vis Ma Passion ».
URL:https://empower-yourself.today/event/art-therapy/
LOCATION:Mireille Soudan & Cédric Dufour – Empower Yourself\, 68 Avenue de Selliers de Moranville\, Berchem-Sainte-Agathe\, Bruxelles\, 1082\, Belgium
CATEGORIES:meditation-et-developpement-personnel
ATTACH;FMTTYPE=image/jpeg:https://empower-yourself.today/wp-content/uploads/2024/02/cdb9151299978c44dc83efec69460e7d-YjO9N8.tmp_.jpg
END:VEVENT
END:VCALENDAR