BEGIN:VCALENDAR
VERSION:2.0
PRODID:-//Empower Yourself - ECPv6.15.16//NONSGML v1.0//EN
CALSCALE:GREGORIAN
METHOD:PUBLISH
X-ORIGINAL-URL:https://empower-yourself.today
X-WR-CALDESC:Évènements pour Empower Yourself
REFRESH-INTERVAL;VALUE=DURATION:PT1H
X-Robots-Tag:noindex
X-PUBLISHED-TTL:PT1H
BEGIN:VTIMEZONE
TZID:Europe/Brussels
BEGIN:DAYLIGHT
TZOFFSETFROM:+0100
TZOFFSETTO:+0200
TZNAME:CEST
DTSTART:20220327T010000
END:DAYLIGHT
BEGIN:STANDARD
TZOFFSETFROM:+0200
TZOFFSETTO:+0100
TZNAME:CET
DTSTART:20221030T010000
END:STANDARD
BEGIN:DAYLIGHT
TZOFFSETFROM:+0100
TZOFFSETTO:+0200
TZNAME:CEST
DTSTART:20230326T010000
END:DAYLIGHT
BEGIN:STANDARD
TZOFFSETFROM:+0200
TZOFFSETTO:+0100
TZNAME:CET
DTSTART:20231029T010000
END:STANDARD
BEGIN:DAYLIGHT
TZOFFSETFROM:+0100
TZOFFSETTO:+0200
TZNAME:CEST
DTSTART:20240331T010000
END:DAYLIGHT
BEGIN:STANDARD
TZOFFSETFROM:+0200
TZOFFSETTO:+0100
TZNAME:CET
DTSTART:20241027T010000
END:STANDARD
END:VTIMEZONE
BEGIN:VEVENT
DTSTART;TZID=Europe/Brussels:20231118T100000
DTEND;TZID=Europe/Brussels:20231118T120000
DTSTAMP:20260422T090224
CREATED:20231103T170923Z
LAST-MODIFIED:20231103T171657Z
UID:41562-1700301600-1700308800@empower-yourself.today
SUMMARY:Garantir mon bien-être au quotidien
DESCRIPTION:Notre corps est notre meilleur allié pour réaliser tous nos projets.\nAlors gardons-le disponible à 100 % !\nNouveau thème à chaque édition\n\n\n✨ Puissance physique\, énergétique… \n✨ Bien-être nerveux\, émotionnel\, … \n✨ (Hyper)sensibilité aux pollutions énergétiques \nNous vous partagerons une multitude de petits gestes qui peuvent vous aider à vous sentir mieux… \n⚡️ Afin que notre corps soit toujours à 100 % de ses capacités … pour que nous puissions accomplir nos projets avec fluidité ! ⚡️ \nThème de cette édition :  \nÀ l’approche de l’hiver\, nous vous partagerons nos habitudes et solutions pour stimuler notre vitalité et préserver notre immunité.  \n  \nAutres thèmes bienvenus.
URL:https://empower-yourself.today/event/garantir-mon-bien-etre-au-quotidien-2/
LOCATION:Mireille Soudan & Cédric Dufour – Empower Yourself\, 68 Avenue de Selliers de Moranville\, Berchem-Sainte-Agathe\, Bruxelles\, 1082\, Belgium
CATEGORIES:meditation-et-developpement-personnel,tai-chi
ATTACH;FMTTYPE=image/jpeg:https://empower-yourself.today/wp-content/uploads/2023/09/7889e5ab08d5f41440dce39bb134c464-PdpP5u.tmp_.jpg
END:VEVENT
END:VCALENDAR