BEGIN:VCALENDAR
VERSION:2.0
PRODID:-//Empower Yourself - ECPv6.15.16//NONSGML v1.0//EN
CALSCALE:GREGORIAN
METHOD:PUBLISH
X-WR-CALNAME:Empower Yourself
X-ORIGINAL-URL:https://empower-yourself.today
X-WR-CALDESC:Évènements pour Empower Yourself
REFRESH-INTERVAL;VALUE=DURATION:PT1H
X-Robots-Tag:noindex
X-PUBLISHED-TTL:PT1H
BEGIN:VTIMEZONE
TZID:Europe/Brussels
BEGIN:DAYLIGHT
TZOFFSETFROM:+0100
TZOFFSETTO:+0200
TZNAME:CEST
DTSTART:20220327T010000
END:DAYLIGHT
BEGIN:STANDARD
TZOFFSETFROM:+0200
TZOFFSETTO:+0100
TZNAME:CET
DTSTART:20221030T010000
END:STANDARD
BEGIN:DAYLIGHT
TZOFFSETFROM:+0100
TZOFFSETTO:+0200
TZNAME:CEST
DTSTART:20230326T010000
END:DAYLIGHT
BEGIN:STANDARD
TZOFFSETFROM:+0200
TZOFFSETTO:+0100
TZNAME:CET
DTSTART:20231029T010000
END:STANDARD
BEGIN:DAYLIGHT
TZOFFSETFROM:+0100
TZOFFSETTO:+0200
TZNAME:CEST
DTSTART:20240331T010000
END:DAYLIGHT
BEGIN:STANDARD
TZOFFSETFROM:+0200
TZOFFSETTO:+0100
TZNAME:CET
DTSTART:20241027T010000
END:STANDARD
END:VTIMEZONE
BEGIN:VEVENT
DTSTART;TZID=Europe/Brussels:20231117T183000
DTEND;TZID=Europe/Brussels:20231117T210000
DTSTAMP:20260422T085717
CREATED:20231103T170921Z
LAST-MODIFIED:20231103T171511Z
UID:41561-1700245800-1700254800@empower-yourself.today
SUMMARY:Simplifiez votre automne
DESCRIPTION:Comment les Produits H2O Rendent la Vie Plus Facile\n\n\nFlorence de Landtsheer est une jeune maman active à l’enthousiasme communicatif. Elle vient nous partager ses trucs et astuces. \nVenez partager ce moment convivial avec nous !
URL:https://empower-yourself.today/event/simplifiez-votre-automne/
LOCATION:Mireille Soudan & Cédric Dufour – Empower Yourself\, 68 Avenue de Selliers de Moranville\, Berchem-Sainte-Agathe\, Bruxelles\, 1082\, Belgium
CATEGORIES:meditation-et-developpement-personnel
ATTACH;FMTTYPE=image/jpeg:https://empower-yourself.today/wp-content/uploads/2023/11/dff4084c4078b6d70c54391902cdbc59-Mhse2J.tmp_.jpg
END:VEVENT
END:VCALENDAR