BEGIN:VCALENDAR
VERSION:2.0
PRODID:-//Empower Yourself - ECPv6.15.16//NONSGML v1.0//EN
CALSCALE:GREGORIAN
METHOD:PUBLISH
X-WR-CALNAME:Empower Yourself
X-ORIGINAL-URL:https://empower-yourself.today
X-WR-CALDESC:Évènements pour Empower Yourself
REFRESH-INTERVAL;VALUE=DURATION:PT1H
X-Robots-Tag:noindex
X-PUBLISHED-TTL:PT1H
BEGIN:VTIMEZONE
TZID:Europe/Brussels
BEGIN:DAYLIGHT
TZOFFSETFROM:+0100
TZOFFSETTO:+0200
TZNAME:CEST
DTSTART:20240331T010000
END:DAYLIGHT
BEGIN:STANDARD
TZOFFSETFROM:+0200
TZOFFSETTO:+0100
TZNAME:CET
DTSTART:20241027T010000
END:STANDARD
BEGIN:DAYLIGHT
TZOFFSETFROM:+0100
TZOFFSETTO:+0200
TZNAME:CEST
DTSTART:20250330T010000
END:DAYLIGHT
BEGIN:STANDARD
TZOFFSETFROM:+0200
TZOFFSETTO:+0100
TZNAME:CET
DTSTART:20251026T010000
END:STANDARD
BEGIN:DAYLIGHT
TZOFFSETFROM:+0100
TZOFFSETTO:+0200
TZNAME:CEST
DTSTART:20260329T010000
END:DAYLIGHT
BEGIN:STANDARD
TZOFFSETFROM:+0200
TZOFFSETTO:+0100
TZNAME:CET
DTSTART:20261025T010000
END:STANDARD
END:VTIMEZONE
BEGIN:VEVENT
DTSTART;TZID=Europe/Brussels:20250206T193000
DTEND;TZID=Europe/Brussels:20250206T210000
DTSTAMP:20260421T095424
CREATED:20241231T074336Z
LAST-MODIFIED:20241231T075613Z
UID:42204-1738870200-1738875600@empower-yourself.today
SUMMARY:Se lancer comme indépendant
DESCRIPTION:Kevin\, comptable de vocation\, nous donne ses conseils\n\n\nEmployé ? Indépendant ? Indépendant complémentaire ? \nComment faire la différence et comment savoir ce qui est le mieux pour soi ? \n  \nKevin vient nous expliquer les avantages de se lancer comme indépendant\, démystifier les procédures. Il nous donne aussi ses conseils pour se lancer facilement en tant qu’indépendant. Comptable de vocation et indépendant lui-même\, il nous fait part de son expérience. \n  \nSoirée organisée dans le cadre de « Je Vis Ma Passion ». \nPublic adulte
URL:https://empower-yourself.today/event/se-lancer-comme-independant/
LOCATION:Mireille Soudan & Cédric Dufour – Empower Yourself\, 68 Avenue de Selliers de Moranville\, Berchem-Sainte-Agathe\, Bruxelles\, 1082\, Belgium
CATEGORIES:meditation-et-developpement-personnel
ATTACH;FMTTYPE=image/jpeg:https://empower-yourself.today/wp-content/uploads/2024/12/71ada036e3072006fd2cf8d5e1e9407d-MLWjpu.tmp_.jpg
END:VEVENT
BEGIN:VEVENT
DTSTART;TZID=Europe/Brussels:20250208T100000
DTEND;TZID=Europe/Brussels:20250208T120000
DTSTAMP:20260421T095424
CREATED:20241204T135717Z
LAST-MODIFIED:20241204T140455Z
UID:42160-1739008800-1739016000@empower-yourself.today
SUMMARY:Auto-Reiki - Initiation aux symboles de base du Reiki Unitaire/Reiki du Son
DESCRIPTION:Initiation à l’utilisation personnelle des 3 symboles de base du Reiki Unitaire – Reiki du Son. Renforcez LUMIÈRE\, JOIE et PUISSANCE !\n\n\nLors de cet atelier\, vous serez initié au Champ Merkabah (activation des corps subtils) et aux trois symboles de base du Reiki Unitaire. \nVous apprendrez ensuite comment pratiquer votre auto-Reiki et renforcerez en vous les qualités liées à ces trois symboles : LUMIÈRE\, JOIE et PUISSANCE. \n5 minutes par jour vous suffiront à retrouver ces qualités chaque fois qu’elles diminuent.
URL:https://empower-yourself.today/event/auto-reiki-initiation-aux-symboles-de-base-du-reiki-unitaire-reiki-du-son-6/
LOCATION:Chez Cédric – Empower Yourself\, 68 Avenue de Selliers de Moranville\, Berchem-Sainte-Agathe\, Bruxelles\, 1082\, Belgium
CATEGORIES:meditation-et-developpement-personnel,reiki
ATTACH;FMTTYPE=image/jpeg:https://empower-yourself.today/wp-content/uploads/2024/12/d5068e91448d71728ab84cf6a2b73c51-NcXO4F.tmp_.jpg
END:VEVENT
BEGIN:VEVENT
DTSTART;TZID=Europe/Brussels:20250209T160000
DTEND;TZID=Europe/Brussels:20250209T180000
DTSTAMP:20260421T095424
CREATED:20250105T213449Z
LAST-MODIFIED:20250105T213707Z
UID:42266-1739116800-1739124000@empower-yourself.today
SUMMARY:Isabelle - Simplifiez votre hiver
DESCRIPTION:Découvrez comment utiliser les produits H2O et comment faciliter l’entretien de votre maison.\n\n\nIsabelle est passionnée par l’écologie\, l’entraide et le bien-être au quotidien. Conseillère indépendante chez H2O@Home depuis plusieurs années\, ce rôle lui permet de partager des solutions innovantes et respectueuses de l’environnement\, comme le nettoyage écologique de nos maisons. \nElle viendra donc nous présenter et nous expliquer comment les produits H2O rendent la vie plus facile. \n  \nPublic adulte
URL:https://empower-yourself.today/event/isabelle-simplifiez-votre-hiver/
LOCATION:Mireille Soudan & Cédric Dufour – Empower Yourself\, 68 Avenue de Selliers de Moranville\, Berchem-Sainte-Agathe\, Bruxelles\, 1082\, Belgium
CATEGORIES:meditation-et-developpement-personnel
ATTACH;FMTTYPE=image/jpeg:https://empower-yourself.today/wp-content/uploads/2025/01/bf5bde647d097427d6b340c915a84d47-56VGqX.tmp_.jpg
END:VEVENT
BEGIN:VEVENT
DTSTART;TZID=Europe/Brussels:20250215T150000
DTEND;TZID=Europe/Brussels:20250215T190000
DTSTAMP:20260421T095424
CREATED:20241204T145206Z
LAST-MODIFIED:20241204T145309Z
UID:42176-1739631600-1739646000@empower-yourself.today
SUMMARY:Le bonheur en duo
DESCRIPTION:Le cadeau de Saint-Valentin qui va transformer votre vie de couple !\n\n\nProgramme de l’atelier : \n\nAccueil gourmand\nAtelier pratique et énergétique\n\n  \nCe que vous retirerez de cet atelier : \n\nLes fondements d’une relation harmonieuse\, heureuse et communicante\nComment sublimer votre relation\nLa conscience d’un amour grandissant\n\n  \nAccédez à la version Gold ! \nLa version GOLD s’adresse à tous ceux qui souhaitent réellement ancrer une nouvelle dynamique dans leur relation de couple. Elle comprend : \n\nL’atelier du 24 février\n2 coachings de couple (en couple par Mireille & Cédric)\n1 séance énergétique individuelle pour chaque membre du couple.\n1 voucher de 5 % de réduction pour une formation en ligne\n\nLes coachings et les séances énergétiques seront planifiés dans les semaines qui suivent l’atelier. \n  \nMAXIMUM 10 COUPLES !
URL:https://empower-yourself.today/event/le-bonheur-en-duo-2/
LOCATION:Mireille Soudan & Cédric Dufour – Empower Yourself\, 68 Avenue de Selliers de Moranville\, Berchem-Sainte-Agathe\, Bruxelles\, 1082\, Belgium
CATEGORIES:meditation-et-developpement-personnel
ATTACH;FMTTYPE=image/jpeg:https://empower-yourself.today/wp-content/uploads/2024/12/f2eb2492922051707fd4dd5ab420c885-pOZCTH.tmp_.jpg
END:VEVENT
BEGIN:VEVENT
DTSTART;TZID=Europe/Brussels:20250220T190000
DTEND;TZID=Europe/Brussels:20250220T203000
DTSTAMP:20260421T095424
CREATED:20241103T194750Z
LAST-MODIFIED:20241105T211437Z
UID:42140-1740078000-1740083400@empower-yourself.today
SUMMARY:A la découverte de Maurice Carême
DESCRIPTION:Rencontre avec François-Xavier Lavenne\, conservateur du Musée Maurice Carême\n\n\nVenez à la rencontre de François-Xavier Lavenne\, conservateur du musée Maurice Carême de Bruxelles. Il viendra nous parler de sa passion pour le poète et écrivain bruxellois. Nous aurons aussi le bonheur d’entendre la lecture de plusieurs des poèmes de Maurice Carême ! \n  \nSoirée organisée dans le cadre de « Je Vis Ma Passion ». \nPublic adulte
URL:https://empower-yourself.today/event/a-la-decouverte-de-maurice-careme-2/
LOCATION:Mireille Soudan & Cédric Dufour – Empower Yourself\, 68 Avenue de Selliers de Moranville\, Berchem-Sainte-Agathe\, Bruxelles\, 1082\, Belgium
CATEGORIES:meditation-et-developpement-personnel
ATTACH;FMTTYPE=image/jpeg:https://empower-yourself.today/wp-content/uploads/2024/09/e8fba88b82dbebb4f5ac9054a17b6794-Vs2Fer.tmp_-e1727351774156.jpg
END:VEVENT
BEGIN:VEVENT
DTSTART;TZID=Europe/Brussels:20250222T083000
DTEND;TZID=Europe/Brussels:20250222T100000
DTSTAMP:20260421T095424
CREATED:20250203T195723Z
LAST-MODIFIED:20250203T202623Z
UID:42318-1740213000-1740218400@empower-yourself.today
SUMMARY:Initiation à la Diksha
DESCRIPTION:L’outil le plus puissant pour apaiser… en seulement 2 minutes !\n\n\nLa Diksha est une bénédiction de Lumière Divine\, à pratiquer pour soi et à partager. \nPratiquée comme une mini-séance de Reiki\, la Diksha est une bénédiction de Lumière Divine\, d’une douceur\, mais aussi d’une efficacité incroyable ! Durant cette initiation\, tu apprendras ce qu’est la Diksha\, quand et à quoi elle peut servir. Ensuite\, tu seras initié(e) afin de pouvoir la pratiquer toi-même\, tant pour toi que pour tes proches. Elle constitue pour nous un outil indispensable\, qui devrait être connu de tous. C’est entre autres pour cela que cet atelier est gratuit. \nPour des raisons d’organisation\, nous vous demandons quand même de bien vouloir vous inscrire.
URL:https://empower-yourself.today/event/initiation-a-la-diksha-21/
LOCATION:Mireille Soudan & Cédric Dufour – Empower Yourself\, 68 Avenue de Selliers de Moranville\, Berchem-Sainte-Agathe\, Bruxelles\, 1082\, Belgium
CATEGORIES:meditation-et-developpement-personnel,reiki
ATTACH;FMTTYPE=image/jpeg:https://empower-yourself.today/wp-content/uploads/2025/02/2ff753c1a567d734c556fabe64869c5b-ZajEST.tmp_.jpg
END:VEVENT
BEGIN:VEVENT
DTSTART;TZID=Europe/Brussels:20250227T193000
DTEND;TZID=Europe/Brussels:20250227T213000
DTSTAMP:20260421T095424
CREATED:20241231T074553Z
LAST-MODIFIED:20241231T075723Z
UID:42210-1740684600-1740691800@empower-yourself.today
SUMMARY:Etudier aux Etats-Unis : mode d'emploi
DESCRIPTION:Soirée d’information pour parents et futurs étudiants\n\n\nRêvez-vous de voir votre enfant s’épanouir dans un cadre international\, découvrir de nouvelles cultures et grandir à travers une expérience unique ? Cette soirée d’information est faite pour vous ! \n  \nPourquoi partir aux États-Unis ? \nImaginez un parcours où chaque jeune construit son programme en fonction de ses passions\, rencontre des enseignants accessibles\, bénéficie d’un encadrement personnalisé et explore des disciplines qui le captivent. \n  \nAu programme : \n  \n• Les rencontres marquantes et la richesse culturelle : Des amitiés internationales\, des perspectives différentes… Chaque échange devient une ouverture vers le monde. \n• Des études sur mesure : Aux États-Unis\, les cursus sont flexibles\, conçus pour que chaque étudiant puisse choisir ses cours et tracer son propre chemin. \n• Un soutien constant : Tuteurs\, professeurs disponibles\, accompagnement dans les méthodes de travail… Tout est pensé pour renforcer la confiance de chaque étudiant. \n• Maîtriser parfaitement l’anglais : Un atout indéniable pour l’avenir\, qui ouvre bien des portes\, tant personnelles que professionnelles. \n• Des campus dynamiques : Environnement agréable\, infrastructures modernes\, espaces de vie… Tout est réuni pour un équilibre entre études et détente. \n• L’importance du sport : Activités physiques et esprit d’équipe sont au cœur de la vie étudiante. \n• Des moments typiquement américains : Matchs de baseball\, fêtes de campus… Autant de souvenirs inoubliables qui enrichissent le quotidien. \n  \nVenez découvrir comment une année ou plus aux États-Unis peut transformer la vie de votre enfant\, en lui offrant autonomie\, assurance\, et un horizon élargi. Cette soirée d’information vous apportera des réponses concrètes et un éclairage inspirant pour que vous puissiez\, vous aussi\, envisager cette aventure avec confiance. \nOsez sauter le pas pour offrir à votre enfant une expérience qui change une vie ! \n  \nSoirée organisée dans le cadre de « Je Vis Ma Passion ». \nPublic adulte
URL:https://empower-yourself.today/event/etudier-aux-etats-unis-mode-demploi-2/
LOCATION:Mireille Soudan & Cédric Dufour – Empower Yourself\, 68 Avenue de Selliers de Moranville\, Berchem-Sainte-Agathe\, Bruxelles\, 1082\, Belgium
CATEGORIES:meditation-et-developpement-personnel
ATTACH;FMTTYPE=image/jpeg:https://empower-yourself.today/wp-content/uploads/2024/10/897b65f4399ae3cf951ac375923ea686-3Fz0pz.tmp_.jpg
END:VEVENT
END:VCALENDAR