BEGIN:VCALENDAR
VERSION:2.0
PRODID:-//Empower Yourself - ECPv6.15.16//NONSGML v1.0//EN
CALSCALE:GREGORIAN
METHOD:PUBLISH
X-WR-CALNAME:Empower Yourself
X-ORIGINAL-URL:https://empower-yourself.today
X-WR-CALDESC:Évènements pour Empower Yourself
REFRESH-INTERVAL;VALUE=DURATION:PT1H
X-Robots-Tag:noindex
X-PUBLISHED-TTL:PT1H
BEGIN:VTIMEZONE
TZID:Europe/Brussels
BEGIN:DAYLIGHT
TZOFFSETFROM:+0100
TZOFFSETTO:+0200
TZNAME:CEST
DTSTART:20240331T010000
END:DAYLIGHT
BEGIN:STANDARD
TZOFFSETFROM:+0200
TZOFFSETTO:+0100
TZNAME:CET
DTSTART:20241027T010000
END:STANDARD
BEGIN:DAYLIGHT
TZOFFSETFROM:+0100
TZOFFSETTO:+0200
TZNAME:CEST
DTSTART:20250330T010000
END:DAYLIGHT
BEGIN:STANDARD
TZOFFSETFROM:+0200
TZOFFSETTO:+0100
TZNAME:CET
DTSTART:20251026T010000
END:STANDARD
BEGIN:DAYLIGHT
TZOFFSETFROM:+0100
TZOFFSETTO:+0200
TZNAME:CEST
DTSTART:20260329T010000
END:DAYLIGHT
BEGIN:STANDARD
TZOFFSETFROM:+0200
TZOFFSETTO:+0100
TZNAME:CET
DTSTART:20261025T010000
END:STANDARD
END:VTIMEZONE
BEGIN:VEVENT
DTSTART;TZID=Europe/Brussels:20250130T193000
DTEND;TZID=Europe/Brussels:20250130T210000
DTSTAMP:20260421T113544
CREATED:20241103T154042Z
LAST-MODIFIED:20241204T140036Z
UID:42131-1738265400-1738270800@empower-yourself.today
SUMMARY:Julie : des bougies pleines de sens
DESCRIPTION:Un concept de bougies écolos et économes.\n\n\nJulie\, est passionée par ses bougies et en a fait son business. Malgré les difficultés de la vie\, un incendie dans sa maison\, la naissance de son bébé\, elle s’est battue et a réussi à rendre cette passion et son business plus fort et plus grand. \nClem & Sens crée des bougies artisanales\, à la cire de soja et au parfum de Grasse. Un concept écolo et économe car chez Clem & Sens on recharge aussi les contenants. \nPrésents sur les marchés artisanaux\, commandes personnalisées\, évènements\, démonstration à domicile… Au niveau des odeurs\, on retrouve 5 permanentes et 5 saisonnières afin de varier les plaisirs ! \n  \nSoirée organisée dans le cadre de « Je Vis Ma Passion ».
URL:https://empower-yourself.today/event/julie-des-bougies-pleines-de-sens/
LOCATION:Mireille Soudan & Cédric Dufour – Empower Yourself\, 68 Avenue de Selliers de Moranville\, Berchem-Sainte-Agathe\, Bruxelles\, 1082\, Belgium
CATEGORIES:meditation-et-developpement-personnel
ATTACH;FMTTYPE=image/jpeg:https://empower-yourself.today/wp-content/uploads/2024/08/cbf86af78892485fccd7587413b4e8da-oqWHUH.tmp_.jpg
END:VEVENT
BEGIN:VEVENT
DTSTART;TZID=Europe/Brussels:20250131T200000
DTEND;TZID=Europe/Brussels:20250131T213000
DTSTAMP:20260421T113544
CREATED:20241204T135714Z
LAST-MODIFIED:20241204T140142Z
UID:42156-1738353600-1738359000@empower-yourself.today
SUMMARY:Initiation à la Diksha
DESCRIPTION:L’outil le plus puissant pour apaiser… en seulement 2 minutes !\n\n\nLa Diksha est une bénédiction de Lumière Divine\, à pratiquer pour soi et à partager. \nPratiquée comme une mini-séance de Reiki\, la Diksha est une bénédiction de Lumière Divine\, d’une douceur\, mais aussi d’une efficacité incroyable ! Durant cette initiation\, tu apprendras ce qu’est la Diksha\, quand et à quoi elle peut servir. Ensuite\, tu seras initié(e) afin de pouvoir la pratiquer toi-même\, tant pour toi que pour tes proches. Elle constitue pour nous un outil indispensable\, qui devrait être connu de tous. C’est entre autres pour cela que cet atelier est gratuit. \nPour des raisons d’organisation\, nous vous demandons quand même de bien vouloir vous inscrire.
URL:https://empower-yourself.today/event/initiation-a-la-diksha-20/
LOCATION:Mireille Soudan & Cédric Dufour – Empower Yourself\, 68 Avenue de Selliers de Moranville\, Berchem-Sainte-Agathe\, Bruxelles\, 1082\, Belgium
CATEGORIES:meditation-et-developpement-personnel,reiki
ATTACH;FMTTYPE=image/jpeg:https://empower-yourself.today/wp-content/uploads/2024/12/646fb68a72bb70c6750ff2ed63ecbe10-HTEXcZ.tmp_.jpg
END:VEVENT
END:VCALENDAR