BEGIN:VCALENDAR
VERSION:2.0
PRODID:-//Empower Yourself - ECPv6.15.16//NONSGML v1.0//EN
CALSCALE:GREGORIAN
METHOD:PUBLISH
X-ORIGINAL-URL:https://empower-yourself.today
X-WR-CALDESC:Évènements pour Empower Yourself
REFRESH-INTERVAL;VALUE=DURATION:PT1H
X-Robots-Tag:noindex
X-PUBLISHED-TTL:PT1H
BEGIN:VTIMEZONE
TZID:Europe/Brussels
BEGIN:DAYLIGHT
TZOFFSETFROM:+0100
TZOFFSETTO:+0200
TZNAME:CEST
DTSTART:20230326T010000
END:DAYLIGHT
BEGIN:STANDARD
TZOFFSETFROM:+0200
TZOFFSETTO:+0100
TZNAME:CET
DTSTART:20231029T010000
END:STANDARD
BEGIN:DAYLIGHT
TZOFFSETFROM:+0100
TZOFFSETTO:+0200
TZNAME:CEST
DTSTART:20240331T010000
END:DAYLIGHT
BEGIN:STANDARD
TZOFFSETFROM:+0200
TZOFFSETTO:+0100
TZNAME:CET
DTSTART:20241027T010000
END:STANDARD
BEGIN:DAYLIGHT
TZOFFSETFROM:+0100
TZOFFSETTO:+0200
TZNAME:CEST
DTSTART:20250330T010000
END:DAYLIGHT
BEGIN:STANDARD
TZOFFSETFROM:+0200
TZOFFSETTO:+0100
TZNAME:CET
DTSTART:20251026T010000
END:STANDARD
END:VTIMEZONE
BEGIN:VEVENT
DTSTART;TZID=Europe/Brussels:20241212T200000
DTEND;TZID=Europe/Brussels:20241212T210000
DTSTAMP:20260421T130544
CREATED:20241029T191115Z
LAST-MODIFIED:20241124T183914Z
UID:42113-1734033600-1734037200@empower-yourself.today
SUMMARY:Contes de Chloé - L'éléphant funambule
DESCRIPTION:Avec simplicité\, chaleur et spontanéité\, Chloé tisse un univers de couleurs\, d’émotions et de surprises. Embarquez dans un voyage surprenant et renouez avec l’émerveillement. En toute légèreté. Le temps d’une soirée. \nCette fois\, elle nous plonge dans l’univers de « L’éléphant funambule ». \n\n\nIl voulait être léger comme un nuage.\nIl n’était ni gazelle\, ni papillon\, ni tourterelle.\nC’est l’histoire d’un éléphant qui voulait marcher sur un fil … \nÀ chaque spectacle\, Les Contes de Chloé nous emmènent dans un autre univers. \nHistoires\, chants\, et autres surprises lui permettent d’embarquer son public\, avec une aisance impressionnante. \n  \nSoirée organisée dans le cadre de « Je Vis Ma Passion ». \nPublic adulte
URL:https://empower-yourself.today/event/contes-de-chloe-lelephant-funambule/
LOCATION:Mireille Soudan & Cédric Dufour – Empower Yourself\, 68 Avenue de Selliers de Moranville\, Berchem-Sainte-Agathe\, Bruxelles\, 1082\, Belgium
CATEGORIES:meditation-et-developpement-personnel
ATTACH;FMTTYPE=image/jpeg:https://empower-yourself.today/wp-content/uploads/2024/10/Lelephant-funambule.jpg
END:VEVENT
BEGIN:VEVENT
DTSTART;TZID=Europe/Brussels:20241213T193000
DTEND;TZID=Europe/Brussels:20241213T213000
DTSTAMP:20260421T130544
CREATED:20241029T191109Z
LAST-MODIFIED:20241108T082818Z
UID:42108-1734118200-1734125400@empower-yourself.today
SUMMARY:Etudier aux Etats-Unis : mode d'emploi
DESCRIPTION:Soirée d’information pour parents et futurs étudiants\n\n\nRêvez-vous de voir votre enfant s’épanouir dans un cadre international\, découvrir de nouvelles cultures et grandir à travers une expérience unique ? Cette soirée d’information est faite pour vous ! \n  \nPourquoi partir aux États-Unis ? \nImaginez un parcours où chaque jeune construit son programme en fonction de ses passions\, rencontre des enseignants accessibles\, bénéficie d’un encadrement personnalisé et explore des disciplines qui le captivent. \n  \nAu programme : \n  \n• Les rencontres marquantes et la richesse culturelle : Des amitiés internationales\, des perspectives différentes… Chaque échange devient une ouverture vers le monde. \n• Des études sur mesure : Aux États-Unis\, les cursus sont flexibles\, conçus pour que chaque étudiant puisse choisir ses cours et tracer son propre chemin. \n• Un soutien constant : Tuteurs\, professeurs disponibles\, accompagnement dans les méthodes de travail… Tout est pensé pour renforcer la confiance de chaque étudiant. \n• Maîtriser parfaitement l’anglais : Un atout indéniable pour l’avenir\, qui ouvre bien des portes\, tant personnelles que professionnelles. \n• Des campus dynamiques : Environnement agréable\, infrastructures modernes\, espaces de vie… Tout est réuni pour un équilibre entre études et détente. \n• L’importance du sport : Activités physiques et esprit d’équipe sont au cœur de la vie étudiante. \n• Des moments typiquement américains : Matchs de baseball\, fêtes de campus… Autant de souvenirs inoubliables qui enrichissent le quotidien. \n  \nVenez découvrir comment une année ou plus aux États-Unis peut transformer la vie de votre enfant\, en lui offrant autonomie\, assurance\, et un horizon élargi. Cette soirée d’information vous apportera des réponses concrètes et un éclairage inspirant pour que vous puissiez\, vous aussi\, envisager cette aventure avec confiance. \nOsez sauter le pas pour offrir à votre enfant une expérience qui change une vie ! \n  \nSoirée organisée dans le cadre de « Je Vis Ma Passion ». \nPublic adulte
URL:https://empower-yourself.today/event/etudier-aux-etats-unis-mode-demploi/
LOCATION:Mireille Soudan & Cédric Dufour – Empower Yourself\, 68 Avenue de Selliers de Moranville\, Berchem-Sainte-Agathe\, Bruxelles\, 1082\, Belgium
CATEGORIES:meditation-et-developpement-personnel
ATTACH;FMTTYPE=image/jpeg:https://empower-yourself.today/wp-content/uploads/2024/10/897b65f4399ae3cf951ac375923ea686-3Fz0pz.tmp_.jpg
END:VEVENT
BEGIN:VEVENT
DTSTART;TZID=Europe/Brussels:20241219T200000
DTEND;TZID=Europe/Brussels:20241219T213000
DTSTAMP:20260421T130544
CREATED:20241102T154330Z
LAST-MODIFIED:20241103T201424Z
UID:42125-1734638400-1734643800@empower-yourself.today
SUMMARY:Initiation à la Diksha EN LIGNE
DESCRIPTION:L’outil le plus puissant pour apaiser… en seulement 2 minutes !\n\n\nLa Diksha est une bénédiction de Lumière Divine\, à pratiquer pour soi et à partager. \nPratiquée comme une mini-séance de Reiki\, la Diksha est une bénédiction de Lumière Divine\, d’une douceur\, mais aussi d’une efficacité incroyable ! Durant cette initiation\, tu apprendras ce qu’est la Diksha\, quand et à quoi elle peut servir. Ensuite\, tu seras initié(e) afin de pouvoir la pratiquer toi-même\, tant pour toi que pour tes proches. Elle constitue pour nous un outil indispensable\, qui devrait être connu de tous. C’est entre autres pour cela que cet atelier est gratuit. \nPour des raisons d’organisation\, nous vous demandons quand même de bien vouloir vous inscrire.
URL:https://empower-yourself.today/event/initiation-a-la-diksha-en-ligne-4/
CATEGORIES:meditation-et-developpement-personnel,reiki
ATTACH;FMTTYPE=image/jpeg:https://empower-yourself.today/wp-content/uploads/2023/07/7370cc322031057999e4b9292b3a2d3e-H6CsPA.tmp_.jpg
END:VEVENT
BEGIN:VEVENT
DTSTART;TZID=Europe/Brussels:20241222T093000
DTEND;TZID=Europe/Brussels:20241222T120000
DTSTAMP:20260421T130544
CREATED:20241204T135710Z
LAST-MODIFIED:20241204T135955Z
UID:42155-1734859800-1734868800@empower-yourself.today
SUMMARY:Retrouvailles Multidimensionnel et quantique
DESCRIPTION:Comprendre notre nature énergétique et comment nous pouvons l’influencer.\nTrouver les trésors qui se trouvent à l’intérieur de notre corps.\n\n\nRéservées pour ceux qui ont déjà fait la formation Multidimensionnel et Quantique\, ces retrouvailles sont l’occasion d’approfondir ce que vous avez déjà appris. \nDurant cette formation\, nous reparlerons de votre vraie nature : énergétique\, multidimensionnelle et quantique; des multifacettes de notre corps : chakras\, auras\, vortex\,… et nous replongerons dans le monde de la biologie quantique afin de comprendre comment réinformer nos cellules et transformer la manière dont notre corps réagit à certaines situations. \nLa formation idéale pour toutes les personnes désireuses \n\nde dépasser la connaissance physique du corps\nde devenir acteur.trice conscient.e de leur quotidien\nde maintenir le momentum\nd’améliorer leurs capacités\nde recevoir\, encore et encore\, tout ce dont elles ont besoin.
URL:https://empower-yourself.today/event/retrouvailles-multidimensionnel-et-quantique-2/
LOCATION:Av. de Selliers de Moranville 68\, 68 Avenue de Selliers de Moranville\, Berchem-Sainte-Agathe\, Bruxelles\, 1082\, Belgium
CATEGORIES:meditation-et-developpement-personnel,reiki,tai-chi
ATTACH;FMTTYPE=image/jpeg:https://empower-yourself.today/wp-content/uploads/2024/12/ba8e265b476cb36062af8a05cc5e48d4-YgTEoG.tmp_.jpg
END:VEVENT
END:VCALENDAR