BEGIN:VCALENDAR
VERSION:2.0
PRODID:-//Empower Yourself - ECPv6.15.16//NONSGML v1.0//EN
CALSCALE:GREGORIAN
METHOD:PUBLISH
X-ORIGINAL-URL:https://empower-yourself.today
X-WR-CALDESC:Évènements pour Empower Yourself
REFRESH-INTERVAL;VALUE=DURATION:PT1H
X-Robots-Tag:noindex
X-PUBLISHED-TTL:PT1H
BEGIN:VTIMEZONE
TZID:Europe/Brussels
BEGIN:DAYLIGHT
TZOFFSETFROM:+0100
TZOFFSETTO:+0200
TZNAME:CEST
DTSTART:20230326T010000
END:DAYLIGHT
BEGIN:STANDARD
TZOFFSETFROM:+0200
TZOFFSETTO:+0100
TZNAME:CET
DTSTART:20231029T010000
END:STANDARD
BEGIN:DAYLIGHT
TZOFFSETFROM:+0100
TZOFFSETTO:+0200
TZNAME:CEST
DTSTART:20240331T010000
END:DAYLIGHT
BEGIN:STANDARD
TZOFFSETFROM:+0200
TZOFFSETTO:+0100
TZNAME:CET
DTSTART:20241027T010000
END:STANDARD
BEGIN:DAYLIGHT
TZOFFSETFROM:+0100
TZOFFSETTO:+0200
TZNAME:CEST
DTSTART:20250330T010000
END:DAYLIGHT
BEGIN:STANDARD
TZOFFSETFROM:+0200
TZOFFSETTO:+0100
TZNAME:CET
DTSTART:20251026T010000
END:STANDARD
END:VTIMEZONE
BEGIN:VEVENT
DTSTART;TZID=Europe/Brussels:20241115T190000
DTEND;TZID=Europe/Brussels:20241117T180000
DTSTAMP:20260421T153649
CREATED:20231011T151845Z
LAST-MODIFIED:20240901T201146Z
UID:41541-1731697200-1731866400@empower-yourself.today
SUMMARY:Formation de maîtrise en Reiki Unitaire\, Reiki du Son
DESCRIPTION:Cette formation vous permettra de devenir Praticien\, puis maître en Reiki Unitaire\, Reiki du Son. 1 week-end\, puis pratique et supervision.\n\n\nLe Reiki Unitaire®\, Reiki du SON® est une formation de Maîtrise qui dure 3 jours. \nElle comporte 4 initiations à 25 symboles\, ouvre les chakras\, des mains\, de la gorge\,… Elle met l’accent sur la puissance multidimensionnelle de ce Reiki et vous servira déjà durant ces 3 jours. \nAu bout de la formation\, et en fonction de votre rythme d’intégration\, vous recevrez deux manuels et deux diplômes qui vous permettront\, à votre tour\, de donner des séances Reiki et d’enseigner la technique.
URL:https://empower-yourself.today/event/formation-de-maitrise-en-reiki-unitaire-reiki-du-son-2/
LOCATION:Chez Cédric – Empower Yourself\, 68 Avenue de Selliers de Moranville\, Berchem-Sainte-Agathe\, Bruxelles\, 1082\, Belgium
CATEGORIES:meditation-et-developpement-personnel,reiki
ATTACH;FMTTYPE=image/png:https://empower-yourself.today/wp-content/uploads/2023/10/Formation-de-maitrise-en-Reiki-eventbrite-2.png
END:VEVENT
BEGIN:VEVENT
DTSTART;TZID=Europe/Brussels:20241120T140000
DTEND;TZID=Europe/Brussels:20241120T160000
DTSTAMP:20260421T153649
CREATED:20241029T191113Z
LAST-MODIFIED:20241103T201517Z
UID:42112-1732111200-1732118400@empower-yourself.today
SUMMARY:Moment convivial parent-enfant : Zen à l'école
DESCRIPTION:Une après-midi zen en famille pour se poser\, se recentrer et repartir plein d’énergie !\n\n\nChers parents\, \nEt si vous preniez une pause dans le rythme effréné du quotidien\, pour partager un moment privilégié avec vos enfants ? Imaginez une après-midi où rires\, échanges et découvertes se mêlent pour créer un moment de complicité unique entre parents et enfants. En tant que maman de trois grands enfants\, j’ai accompagné mes enfants à travers les défis de la vie quotidienne et les exigences du système scolaire. Aujourd’hui\, je souhaite vous transmettre des outils concrets pour apporter plus de sérénité et de confiance dans votre vie familiale. \nVenez vivre une rencontre inspirante qui vous donnera les clés pour un quotidien plus serein ! Vous pourrez : \n• Échanger et apprendre dans une atmosphère bienveillante. \n• Découvrir des astuces simples pour mieux vivre les défis scolaires et familiaux. \n• Rencontrer d’autres familles\, pour créer du lien et se sentir soutenus face aux défis du quotidien. \nPour rendre ce moment encore plus spécial\, Cédric\, expert en Tai Chi\, nous proposera une initiation ludique. Une belle façon d’apprendre à canaliser les émotions\, à renforcer la concentration et à apaiser l’esprit\, tout en s’amusant ! \nNous avons hâte de vous accueillir et de partager ce moment chaleureux avec vous. Rejoignez-nous pour une après-midi qui vous apportera des outils concrets pour vivre le quotidien avec plus de sérénité et de confiance !
URL:https://empower-yourself.today/event/moment-convivial-parent-enfant-zen-a-lecole/
LOCATION:Av. de Selliers de Moranville 68\, 68 Avenue de Selliers de Moranville\, Berchem-Sainte-Agathe\, Bruxelles\, 1082\, Belgium
CATEGORIES:meditation-et-developpement-personnel,tai-chi
ATTACH;FMTTYPE=image/jpeg:https://empower-yourself.today/wp-content/uploads/2024/10/c6e82b2d6ceb8452aae999059e4bf3cb-5HCVJx.tmp_.jpg
END:VEVENT
BEGIN:VEVENT
DTSTART;TZID=Europe/Brussels:20241129T200000
DTEND;TZID=Europe/Brussels:20241129T220000
DTSTAMP:20260421T153649
CREATED:20241103T154040Z
LAST-MODIFIED:20241103T201452Z
UID:42129-1732910400-1732917600@empower-yourself.today
SUMMARY:5-4-3-2-1 : Lumière !
DESCRIPTION:Réalisez vos projets et vos rêves avec une perfection et une facilité éblouissantes !\n\n\n✨ Explorez et approfondissez avec nous les facultés supérieures de votre mental ✨ \n✨ Vous pouvez tout créer ! Avec une facilité déconcertante ! ✨ \n✨ Activez la loi de l’attraction pour agir sans effort ✨ \nCet atelier interactif vous fera découvrir les bases de ces fondements. \n🤗 Ils ont changé notre vie ; ils peuvent changer la vôtre ! 🤗
URL:https://empower-yourself.today/event/5-4-3-2-1-lumiere-2/
LOCATION:Mireille Soudan & Cédric Dufour – Empower Yourself\, 68 Avenue de Selliers de Moranville\, Berchem-Sainte-Agathe\, Bruxelles\, 1082\, Belgium
CATEGORIES:meditation-et-developpement-personnel
ATTACH;FMTTYPE=image/jpeg:https://empower-yourself.today/wp-content/uploads/2024/11/fb9becab80a098fd36210d6eb811deab-nmVghh.tmp_.jpg
END:VEVENT
END:VCALENDAR