BEGIN:VCALENDAR
VERSION:2.0
PRODID:-//Empower Yourself - ECPv6.15.16//NONSGML v1.0//EN
CALSCALE:GREGORIAN
METHOD:PUBLISH
X-ORIGINAL-URL:https://empower-yourself.today
X-WR-CALDESC:Évènements pour Empower Yourself
REFRESH-INTERVAL;VALUE=DURATION:PT1H
X-Robots-Tag:noindex
X-PUBLISHED-TTL:PT1H
BEGIN:VTIMEZONE
TZID:Europe/Brussels
BEGIN:DAYLIGHT
TZOFFSETFROM:+0100
TZOFFSETTO:+0200
TZNAME:CEST
DTSTART:20230326T010000
END:DAYLIGHT
BEGIN:STANDARD
TZOFFSETFROM:+0200
TZOFFSETTO:+0100
TZNAME:CET
DTSTART:20231029T010000
END:STANDARD
BEGIN:DAYLIGHT
TZOFFSETFROM:+0100
TZOFFSETTO:+0200
TZNAME:CEST
DTSTART:20240331T010000
END:DAYLIGHT
BEGIN:STANDARD
TZOFFSETFROM:+0200
TZOFFSETTO:+0100
TZNAME:CET
DTSTART:20241027T010000
END:STANDARD
BEGIN:DAYLIGHT
TZOFFSETFROM:+0100
TZOFFSETTO:+0200
TZNAME:CEST
DTSTART:20250330T010000
END:DAYLIGHT
BEGIN:STANDARD
TZOFFSETFROM:+0200
TZOFFSETTO:+0100
TZNAME:CET
DTSTART:20251026T010000
END:STANDARD
END:VTIMEZONE
BEGIN:VEVENT
DTSTART;TZID=Europe/Brussels:20240302T150000
DTEND;TZID=Europe/Brussels:20240302T190000
DTSTAMP:20260422T011925
CREATED:20231209T171655Z
LAST-MODIFIED:20231215T011350Z
UID:41604-1709391600-1709406000@empower-yourself.today
SUMMARY:Le bonheur en duo
DESCRIPTION:Le cadeau de Saint-Valentin qui va transformer votre vie de couple !\n\n\nProgramme de l’atelier : \n\nAccueil gourmand\nAtelier pratique et énergétique\n\n  \nCe que vous retirerez de cet atelier : \n\nLes fondements d’une relation harmonieuse\, heureuse et communicante\nComment sublimer votre relation\nLa conscience d’un amour grandissant\n\n  \nAccédez à la version Gold ! \nLa version GOLD s’adresse à tous ceux qui souhaitent réellement ancrer une nouvelle dynamique dans leur relation de couple. Elle comprend : \n\nL’atelier du 24 février\n2 coachings de couple (en couple par Mireille & Cédric)\n1 séance énergétique individuelle pour chaque membre du couple.\n1 voucher de 5 % de réduction pour une formation en ligne\n\nLes coachings et les séances énergétiques seront planifiés dans les semaines qui suivent l’atelier. \n  \nMAXIMUM 10 COUPLES !
URL:https://empower-yourself.today/event/le-bonheur-en-duo/
LOCATION:Mireille Soudan & Cédric Dufour – Empower Yourself\, 68 Avenue de Selliers de Moranville\, Berchem-Sainte-Agathe\, Bruxelles\, 1082\, Belgium
CATEGORIES:meditation-et-developpement-personnel
ATTACH;FMTTYPE=image/jpeg:https://empower-yourself.today/wp-content/uploads/2023/12/95fa7185dbbd2ffe22f29bc0ff6cc521-3T5BNe.tmp_.jpg
END:VEVENT
BEGIN:VEVENT
DTSTART;TZID=Europe/Brussels:20240307T201500
DTEND;TZID=Europe/Brussels:20240307T220000
DTSTAMP:20260422T011925
CREATED:20240128T112245Z
LAST-MODIFIED:20240229T085432Z
UID:41681-1709842500-1709848800@empower-yourself.today
SUMMARY:Voyage en Poésie - COMPLET - Liste d'attente ouverte
DESCRIPTION:Le voyage de l’écriture\, celui du temps\, du changement\, de la terre\, des enfants\, des états d’âme\, celui des rencontres et de l’amour.\n\n\nLes mots sont puissants quand ils viennent de loin. Mais pour qu’ils puissent émerger\, il est important de pouvoir s’arrêter. C’est ce que j’ai fait depuis quelques années.\nComme dit Christiane Singer … «Où cours-tu? Ne sais-tu pas que le ciel est en toi? ».\nDes événements compliqués – la vie n’étant pas toujours facile-\, l’ambiance du moment et l’âge avançant … Tous ces éléments ont contribué à ce que je décide de me poser\, de me permettre de penser\, de vivre le présent et de laisser parler mon crayon sur mes carnets de papier.\nEt lorsqu’on est bien ancré\, les pieds enracinés\, le corps aligné et la tête dans les étoiles\, les mots arrivent intensément\, reflets d’une vie intérieure dense et parfois ėtonnante.\nAlors depuis le début de l’ėté 2023\, je me suis mise à écrire avec beaucoup d’insistance. Et cette écriture\, venant de je ne sais où – si\, je sais\, mais c’est encore un secret -\, a contribué à ma re-naissance. Celle qui me permet de vouloir aussi aller à la rencontre des autres et de créer du lien dans ce nouveau monde qui re-naît lui aussi.\nEt puis\, il y a cet amour de la musique\, qui me vient de ma mère. Elle contribue à l’émergence de mon écriture et soutient la lecture de mes textes d’une façon particulière.\nJe vous invite à ce que nous fassions connaissance et vous convie à vous embarquer dans mon monde. Le voyage sera à la fois lourd et léger\, triste et gai\, doux et intense\, dépendamment des espaces dans lesquels je vous emmènerai. Celui de l’écriture\, celui du temps\, celui du changement\, celui de la terre\, celui des enfants\, celui des états d’âme\, celui des rencontres et celui de l’amour. \nPourquoi cet amour des mots et de l’interprétation de mes textes\, de la parole\, de l’expression verbale et de la rencontre d’autrui?\nPeut-être le fait d’être logopède et de donner aussi des formations en communication alternative\, d’être formée en thérapie systémique\, d’avoir fréquenté durant plusieurs années l’académie de déclamation et d’art dramatique de cette commune ou d’avoir joué pendant 20 ans dans une troupe de théâtre amateur …? Dieu seul sait! \nAlors\, si vous avez le souhait de voyager avec moi\, je vous invite à le faire ce jeudi 7 mars à 20h30. Je serai accueillie dans une charmante demeure par de charmantes personnes\, Cédric et Mireille\, au 68 de la rue Selliers de Moranville à Berchem-ste- Agathe. L’accueil se fera dès 20h15 pour que nous puissions démarrer bien à l’heure car l’embarquement sera quelque peu difficile une fois le voyage commencé. \nSoirée animée par Michèle Van Lil et organisée dans le cadre de « Je Vis Ma Passion ». \nPrix libre.
URL:https://empower-yourself.today/event/voyage-en-poesie/
LOCATION:Mireille Soudan & Cédric Dufour – Empower Yourself\, 68 Avenue de Selliers de Moranville\, Berchem-Sainte-Agathe\, Bruxelles\, 1082\, Belgium
CATEGORIES:meditation-et-developpement-personnel
ATTACH;FMTTYPE=image/jpeg:https://empower-yourself.today/wp-content/uploads/2024/01/fc3eba1ed6a81bc841fb8443e97d99ca-fAR5gq.tmp_.jpg
END:VEVENT
BEGIN:VEVENT
DTSTART;TZID=Europe/Brussels:20240310T100000
DTEND;TZID=Europe/Brussels:20240310T120000
DTSTAMP:20260422T011925
CREATED:20240226T151653Z
LAST-MODIFIED:20240226T165642Z
UID:41731-1710064800-1710072000@empower-yourself.today
SUMMARY:Une technologie révolutionnaire pour améliorer votre santé au quotidien
DESCRIPTION:Une nouvelle technologie révolutionnaire pour optimiser le potentiel des voies neuronales. Les résultats ? De quoi Changer La Vie !\n\n\nChristian Legault a fait le voyage du Québec pour nous présenter une technologie révolutionnaire pour optimiser le potentiel des voies neuronales. Il s’agit de la technologie de déclenchement vibrotactile haptique. \nC’est un ingénieur canadien (d’origine indienne) qui développe le produit depuis 12 ans. Il a fait le pré-lancement le 8 novembre 2023. \nChaque Super Patch possède des crêtes ultrafines qui stimulent les récepteurs et les « canaux ioniques » de la peau et qui se lisent comme du braille par le cerveau. Ces modèles de crête uniques sont conçus pour redémarrer des programmes neuronaux spécifiques. Lorsque ces crêtes entrent en contact avec la peau\, elles déclenchent une correction instantanée de ces programmes neuronaux\, reconnectant efficacement le cerveau. \nLes résultats ? Rien de moins que de changer la vie. \nSans aucun produit\, sans effets secondaire\, ni de contre-indications \nFacile à utiliser \n  \nPour le moment\, nous avons accès à 12 actions différentes : \nEn premier : La base fondamentale pour l’équilibre homéostatique (Liberty) \nPuis onze autres plus spécifiques : \n1. Douleur \n2. Stress \n3. Sommeil \n4. Joie et humeur \n5. Focus et concentration \n6. Système immunitaire \n7. Dépendances \n8. Performances sportives et énergie \n9. Dépenses caloriques et système hormonal \n10. Énergie endurance et passion chez l’homme \n11. Activation bio-photonique de la peau \n  \nIl s’agit littéralement d’une révolution dans le domaine de la santé ! Enfin un soulagement réel sans effet secondaire ! \nAtelier organisé dans le cadre de « Garantir Son Bien-Etre Au Quotidien »
URL:https://empower-yourself.today/event/une-technologie-revolutionnaire-pour-ameliorer-votre-sante-au-quotidien/
LOCATION:Mireille Soudan & Cédric Dufour – Empower Yourself\, 68 Avenue de Selliers de Moranville\, Berchem-Sainte-Agathe\, Bruxelles\, 1082\, Belgium
CATEGORIES:meditation-et-developpement-personnel,reiki
ATTACH;FMTTYPE=image/jpeg:https://empower-yourself.today/wp-content/uploads/2024/02/c09e1e5f04679505710bf58d637e225e-Vm89hM.tmp_.jpg
END:VEVENT
BEGIN:VEVENT
DTSTART;TZID=Europe/Brussels:20240310T170000
DTEND;TZID=Europe/Brussels:20240310T190000
DTSTAMP:20260422T011925
CREATED:20240226T164140Z
LAST-MODIFIED:20240226T165733Z
UID:41738-1710090000-1710097200@empower-yourself.today
SUMMARY:Une technologie révolutionnaire pour la santé au quotidien - EN LIGNE
DESCRIPTION:Une nouvelle technologie révolutionnaire pour optimiser le potentiel des voies neuronales. Les résultats ? De quoi Changer La Vie !\n\n\nChristian Legault a fait le voyage du Québec pour nous présenter une technologie révolutionnaire pour optimiser le potentiel des voies neuronales. Il s’agit de la technologie de déclenchement vibrotactile haptique. \nC’est un ingénieur canadien (d’origine indienne) qui développe le produit depuis 12 ans. Il a fait le pré-lancement le 8 novembre 2023. \nChaque Super Patch possède des crêtes ultrafines qui stimulent les récepteurs et les « canaux ioniques » de la peau et qui se lisent comme du braille par le cerveau. Ces modèles de crête uniques sont conçus pour redémarrer des programmes neuronaux spécifiques. Lorsque ces crêtes entrent en contact avec la peau\, elles déclenchent une correction instantanée de ces programmes neuronaux\, reconnectant efficacement le cerveau. \nLes résultats ? Rien de moins que de changer la vie. \nSans aucun produit\, sans effets secondaire\, ni de contre-indications \nFacile à utiliser \n  \nPour le moment\, nous avons accès à 12 actions différentes : \nEn premier : La base fondamentale pour l’équilibre homéostatique (Liberty) \nPuis onze autres plus spécifiques : \n1. Douleur \n2. Stress \n3. Sommeil \n4. Joie et humeur \n5. Focus et concentration \n6. Système immunitaire \n7. Dépendances \n8. Performances sportives et énergie \n9. Dépenses caloriques et système hormonal \n10. Énergie endurance et passion chez l’homme \n11. Activation bio-photonique de la peau \n  \nIl s’agit littéralement d’une révolution dans le domaine de la santé ! Enfin un soulagement réel sans effet secondaire ! \nAtelier organisé dans le cadre de « Garantir Son Bien-Etre Au Quotidien »
URL:https://empower-yourself.today/event/une-technologie-revolutionnaire-pour-la-sante-au-quotidien-en-ligne/
CATEGORIES:meditation-et-developpement-personnel,reiki
ATTACH;FMTTYPE=image/jpeg:https://empower-yourself.today/wp-content/uploads/2024/02/c09e1e5f04679505710bf58d637e225e-Vm89hM.tmp_.jpg
END:VEVENT
BEGIN:VEVENT
DTSTART;TZID=Europe/Brussels:20240321T203000
DTEND;TZID=Europe/Brussels:20240321T220000
DTSTAMP:20260422T011925
CREATED:20240220T135336Z
LAST-MODIFIED:20240220T135427Z
UID:41708-1711053000-1711058400@empower-yourself.today
SUMMARY:Initiation à la Diksha
DESCRIPTION:L’outil le plus puissant pour apaiser… en seulement 2 minutes !\n\n\nLa Diksha est une bénédiction de Lumière Divine\, à pratiquer pour soi et à partager. \nPratiquée comme une mini-séance de Reiki\, la Diksha est une bénédiction de Lumière Divine\, d’une douceur\, mais aussi d’une efficacité incroyable ! Durant cette initiation\, tu apprendras ce qu’est la Diksha\, quand et à quoi elle peut servir. Ensuite\, tu seras initié(e) afin de pouvoir la pratiquer toi-même\, tant pour toi que pour tes proches. Elle constitue pour nous un outil indispensable\, qui devrait être connu de tous. C’est entre autres pour cela que cet atelier est gratuit. \nPour des raisons d’organisation\, nous vous demandons quand même de bien vouloir vous inscrire.
URL:https://empower-yourself.today/event/initiation-a-la-diksha-16/
LOCATION:Mireille Soudan & Cédric Dufour – Empower Yourself\, 68 Avenue de Selliers de Moranville\, Berchem-Sainte-Agathe\, Bruxelles\, 1082\, Belgium
CATEGORIES:meditation-et-developpement-personnel,reiki
ATTACH;FMTTYPE=image/jpeg:https://empower-yourself.today/wp-content/uploads/2024/02/38ed1f46af03a809733d9b9a54adcf24-eX4leL.tmp_.jpg
END:VEVENT
BEGIN:VEVENT
DTSTART;TZID=Europe/Brussels:20240328T200000
DTEND;TZID=Europe/Brussels:20240328T213000
DTSTAMP:20260422T011925
CREATED:20240220T151418Z
LAST-MODIFIED:20240321T090552Z
UID:41714-1711656000-1711661400@empower-yourself.today
SUMMARY:Du Cœur au Cœur des Entreprises
DESCRIPTION:Pourquoi et Comment Passion et Partage Passent au Centre de Toute Activité ?\nDécouvrez Comment Développer une Entreprise Qui A Du Cœur !\n\n\nD’un rêve de jeune diplômé à la réalité… \nComment mettre en place une entreprise et des équipes où des mots comme Partage\, Passion\, Respect\, Confiance\, Flexibilité règnent en maîtres. \nComment créer un environnement prospère où je ne dois pas\, en tant que directeur\, être toujours dans le contrôle ? \nComment puis-je m’affirmer\, stimuler mes équipes\, être présent sans m’imposer\, me mettre au centre de l’attention lorsque c’est nécessaire ? \nComment puis-je exposer ma vulnérabilité tout en restant solide\, puissant ? \nComment puis-je en même temps tenir compte de la vulnaribilité de chacun de mes collaborateurs ? \nAutant de questions auxquelles le livre « Du Coeur Au Coeur des Entreprises » pourra répondre. \nJe me ferai un plaisir de vous partager les outils que j’ai acquis\, mis en place et comment nous pouvons\, ensemble\, créer dès aujourd’hui les entreprises de demain ! \nUn exemplaire du livre sera offert aux 24 premier.ière.s inscrit.e.s ! \nAtelier organisé dans le cadre de « Je Vis Ma Passion »
URL:https://empower-yourself.today/event/du-coeur-au-coeur-des-entreprises/
LOCATION:Mireille Soudan & Cédric Dufour – Empower Yourself\, 68 Avenue de Selliers de Moranville\, Berchem-Sainte-Agathe\, Bruxelles\, 1082\, Belgium
CATEGORIES:meditation-et-developpement-personnel
ATTACH;FMTTYPE=image/jpeg:https://empower-yourself.today/wp-content/uploads/2024/02/image_coeur-entreprises.jpg
END:VEVENT
END:VCALENDAR