BEGIN:VCALENDAR
VERSION:2.0
PRODID:-//Empower Yourself - ECPv6.15.16//NONSGML v1.0//EN
CALSCALE:GREGORIAN
METHOD:PUBLISH
X-WR-CALNAME:Empower Yourself
X-ORIGINAL-URL:https://empower-yourself.today
X-WR-CALDESC:Évènements pour Empower Yourself
REFRESH-INTERVAL;VALUE=DURATION:PT1H
X-Robots-Tag:noindex
X-PUBLISHED-TTL:PT1H
BEGIN:VTIMEZONE
TZID:Europe/Brussels
BEGIN:DAYLIGHT
TZOFFSETFROM:+0100
TZOFFSETTO:+0200
TZNAME:CEST
DTSTART:20230326T010000
END:DAYLIGHT
BEGIN:STANDARD
TZOFFSETFROM:+0200
TZOFFSETTO:+0100
TZNAME:CET
DTSTART:20231029T010000
END:STANDARD
BEGIN:DAYLIGHT
TZOFFSETFROM:+0100
TZOFFSETTO:+0200
TZNAME:CEST
DTSTART:20240331T010000
END:DAYLIGHT
BEGIN:STANDARD
TZOFFSETFROM:+0200
TZOFFSETTO:+0100
TZNAME:CET
DTSTART:20241027T010000
END:STANDARD
BEGIN:DAYLIGHT
TZOFFSETFROM:+0100
TZOFFSETTO:+0200
TZNAME:CEST
DTSTART:20250330T010000
END:DAYLIGHT
BEGIN:STANDARD
TZOFFSETFROM:+0200
TZOFFSETTO:+0100
TZNAME:CET
DTSTART:20251026T010000
END:STANDARD
END:VTIMEZONE
BEGIN:VEVENT
DTSTART;TZID=Europe/Brussels:20240216T190000
DTEND;TZID=Europe/Brussels:20240216T200000
DTSTAMP:20260422T024245
CREATED:20231230T135837Z
LAST-MODIFIED:20240208T221214Z
UID:41625-1708110000-1708113600@empower-yourself.today
SUMMARY:L’art du storytelling - COMPLET - Liste d'attente ouverte
DESCRIPTION:Apprendre à composer et à raconter une histoire dans les règles de l’art !\n\n\nDurant cet atelier\, Benjamin Potie s’adresse à tous les storytellers dans l’âme\, écrivains\, dessinateurs de BD\, vidéastes\, réalisateurs\, … et même les personnes désirant raconter l’histoire de leur entreprise.
URL:https://empower-yourself.today/event/lart-du-storytelling/
LOCATION:Mireille Soudan & Cédric Dufour – Empower Yourself\, 68 Avenue de Selliers de Moranville\, Berchem-Sainte-Agathe\, Bruxelles\, 1082\, Belgium
CATEGORIES:meditation-et-developpement-personnel
ATTACH;FMTTYPE=image/png:https://empower-yourself.today/wp-content/uploads/2023/12/2156940dae2bf2047d11b18727ed3a52-TTvaXF.tmp_.png
END:VEVENT
BEGIN:VEVENT
DTSTART;TZID=Europe/Brussels:20240222T203000
DTEND;TZID=Europe/Brussels:20240222T213000
DTSTAMP:20260422T024245
CREATED:20240128T102630Z
LAST-MODIFIED:20240128T102803Z
UID:41671-1708633800-1708637400@empower-yourself.today
SUMMARY:Histoires de Chats
DESCRIPTION:Chloé Houyoux\, jeune maman pétillante\, passionnée de théâtre et d’histoires contées nous revient avec un nouveau thème « Histoires de Chats ».\n\n\nSoirée organisée dans le cadre de « Je Vis Ma Passion ». \nPublic adulte \nPrix libre
URL:https://empower-yourself.today/event/histoires-de-chats/
LOCATION:Mireille Soudan & Cédric Dufour – Empower Yourself\, 68 Avenue de Selliers de Moranville\, Berchem-Sainte-Agathe\, Bruxelles\, 1082\, Belgium
CATEGORIES:meditation-et-developpement-personnel
ATTACH;FMTTYPE=image/jpeg:https://empower-yourself.today/wp-content/uploads/2024/01/58b15dc93d08bdefa64f613e3ec19627-XimfuR.tmp_.jpg
END:VEVENT
END:VCALENDAR