BEGIN:VCALENDAR
VERSION:2.0
PRODID:-//Empower Yourself - ECPv6.15.16//NONSGML v1.0//EN
CALSCALE:GREGORIAN
METHOD:PUBLISH
X-ORIGINAL-URL:https://empower-yourself.today
X-WR-CALDESC:Évènements pour Empower Yourself
REFRESH-INTERVAL;VALUE=DURATION:PT1H
X-Robots-Tag:noindex
X-PUBLISHED-TTL:PT1H
BEGIN:VTIMEZONE
TZID:Europe/Brussels
BEGIN:DAYLIGHT
TZOFFSETFROM:+0100
TZOFFSETTO:+0200
TZNAME:CEST
DTSTART:20220327T010000
END:DAYLIGHT
BEGIN:STANDARD
TZOFFSETFROM:+0200
TZOFFSETTO:+0100
TZNAME:CET
DTSTART:20221030T010000
END:STANDARD
BEGIN:DAYLIGHT
TZOFFSETFROM:+0100
TZOFFSETTO:+0200
TZNAME:CEST
DTSTART:20230326T010000
END:DAYLIGHT
BEGIN:STANDARD
TZOFFSETFROM:+0200
TZOFFSETTO:+0100
TZNAME:CET
DTSTART:20231029T010000
END:STANDARD
BEGIN:DAYLIGHT
TZOFFSETFROM:+0100
TZOFFSETTO:+0200
TZNAME:CEST
DTSTART:20240331T010000
END:DAYLIGHT
BEGIN:STANDARD
TZOFFSETFROM:+0200
TZOFFSETTO:+0100
TZNAME:CET
DTSTART:20241027T010000
END:STANDARD
END:VTIMEZONE
BEGIN:VEVENT
DTSTART;TZID=Europe/Brussels:20230212T150000
DTEND;TZID=Europe/Brussels:20230212T190000
DTSTAMP:20260423T010134
CREATED:20230124T205118Z
LAST-MODIFIED:20230124T213525Z
UID:41207-1676214000-1676228400@empower-yourself.today
SUMMARY:Vers un couple comblé
DESCRIPTION:Le cadeau de Saint-Valentin qui va transformer votre vie !\n\n\nProgramme de l’atelier : \n– Accueil gourmand \n– Atelier pratique et énergétique \nCe que vous retirerez de cet atelier : \n– les fondements d’une relation harmonieuse\, heureuse et communicante \n– la conscience d’un amour grandissant \n  \nAccédez à la version Gold ! \nLa version GOLD s’adresse à tous ceux qui souhaitent réellement ancrer une nouvelle dynamique dans leur relation de couple. Elle comprend : \n– l’atelier du 12 février \n– 2 coachings de couple (en couple par Mireille & Cédric) \n– 1 séance énergétique individuelle pour chaque membre du couple. \n– 1 voucher de 5 % de réduction pour une formation en ligne\, le « Cycle J’attire » ou l’atelier « J’attire l’Amour ». \nLes coachings et les séances énergétiques seront planifiés dans les semaines qui suivent l’atelier. \nMAXIMUM 10 COUPLES ! \nVous avez moins de 26 ans et souhaitez offrir un cadeau spécial à votre couple ? Contactez-nous\, nous avons des idées pleines de peps juste pour vous !!
URL:https://empower-yourself.today/event/vers-un-couple-comble/
LOCATION:Mireille Soudan & Cédric Dufour – Empower Yourself\, 68 Avenue de Selliers de Moranville\, Berchem-Sainte-Agathe\, Bruxelles\, 1082\, Belgium
CATEGORIES:meditation-et-developpement-personnel
ATTACH;FMTTYPE=image/jpeg:https://empower-yourself.today/wp-content/uploads/2023/01/ce6439fab56b60a0cf3f207baa3a0240-jxozBg.tmp_.jpg
END:VEVENT
BEGIN:VEVENT
DTSTART;TZID=Europe/Brussels:20230218T140000
DTEND;TZID=Europe/Brussels:20230218T180000
DTSTAMP:20260423T010134
CREATED:20230121T180846Z
LAST-MODIFIED:20230121T181003Z
UID:41198-1676728800-1676743200@empower-yourself.today
SUMMARY:J'attire l'abondance
DESCRIPTION:Ne rêvons-nous pas tous de plus d’abondance ?\nNous vous emmenons dans une autre vision du monde où l’abondance est accessible à tous !\n\n\nBeaucoup de nos schémas de pensée face à l’argent sont faussés par nos croyances\, notre éducation\, les discours professionnels\, commerciaux et politiques. \nAprès nous être tournés vers les plus grands\, nous vous partageons une autre vision du monde\, où la liberté financière et l’abondance sont réellement accessibles à tous. \nEt bien sur nous vous aidons à transmuter vos croyances ! \n \nCet atelier fait partie du Cycle J’attire.  \nVous pouvez vous inscrire uniquement à cet atelier ou profiter du cycle complet pour un prix plus avantageux.
URL:https://empower-yourself.today/event/jattire-labondance/
LOCATION:A distance (Zoom)
CATEGORIES:meditation-et-developpement-personnel
ATTACH;FMTTYPE=image/jpeg:https://empower-yourself.today/wp-content/uploads/2023/01/7e4f00f1fdd383968e5250af811e16d6-FSTQVV.tmp_.jpg
END:VEVENT
BEGIN:VEVENT
DTSTART;TZID=Europe/Brussels:20230218T140000
DTEND;TZID=Europe/Brussels:20230325T180000
DTSTAMP:20260423T010134
CREATED:20221231T143433Z
LAST-MODIFIED:20230122T200950Z
UID:41120-1676728800-1679767200@empower-yourself.today
SUMMARY:Cycle J'attire
DESCRIPTION:J’attire tout ce dont j’ai besoin pour être libre !\n\n\nLe Cycle « J’attire » est composé de 3 ateliers : \n1. J’attire l’abondance (samedi 18 février de 14 h à 18 h). \n→ Les fondements de la liberté financière \n2. Initiation à la Diksha (samedi 25 février de 14 h à 16 h). \n→ Un outil rapide\, mais efficace pour renforcer la paix intérieure \n2. J’attire l’amour (samedi 25 mars de 14 h à 18 h). \n→ De la peur à l’amour ; de l’inaction à l’action. \n3. J’attire le succès (samedi 15 avril de 14 h à 18 h). \n→ Exprimer ma passion intérieure. \nChacun des ateliers sera organisé en ligne. \nVersion Gold : \nLes trois ateliers ci-dessus + coachings individuels et suivis avant\, pendant et après les ateliers. \nOffre spéciale jusqu’au 31 janvier : venez à deux et payez 1 place pour 2 ! \nLe prix à payer pour ce cycle augmentera régulièrement\, par palier\, jusqu’à la clôture des inscriptions. \nPrix final : 480 € \nPrix final GOLD : 1440  € \nNe tardez donc pas à vous inscrire !
URL:https://empower-yourself.today/event/cycle-jattire/
LOCATION:A distance (Zoom)
CATEGORIES:meditation-et-developpement-personnel
ATTACH;FMTTYPE=image/jpeg:https://empower-yourself.today/wp-content/uploads/2022/12/a198e53732c3a619ff7405f22b73a90d-YjmGCP.tmp_.jpg
END:VEVENT
BEGIN:VEVENT
DTSTART;TZID=Europe/Brussels:20230225T140000
DTEND;TZID=Europe/Brussels:20230225T160000
DTSTAMP:20260423T010134
CREATED:20221231T144251Z
LAST-MODIFIED:20230121T181236Z
UID:41125-1677333600-1677340800@empower-yourself.today
SUMMARY:Initiation à la Diksha à distance
DESCRIPTION:La Diksha est une bénédiction de Lumière Divine\, à pratiquer pour soi et à partager.\nL’outil le plus puissant pour trouver la paix en 2 min!\n\nLa Diksha est une bénédiction de Lumière Divine\, à pratiquer pour soi et à partager.\nL’outil le plus puissant pour trouver la paix en 2 min!Pratiquée comme une mini-séance de Reiki\, la Diksha est une bénédiction de Lumière Divine\, d’une douceur mais aussi d’une efficacité incroyable ! Durant cette initiation\, tu apprendras ce qu’est la Diksha\, quand et à quoi elle peut servir. Ensuite\, tu seras initié(e) afin de pouvoir la pratiquer toi-même\, tant pour toi que pour tes proches. Elle constitue pour nous un outil indispensable\, qui devrait être connu de tous. C’est entre autres pour cela que cet atelier est gratuit. Pour des raisons d’organisation\, nous vous demandons quand même de bien vouloir vous inscrire.
URL:https://empower-yourself.today/event/initiation-a-la-diksha-a-distance-2/
LOCATION:A distance (Zoom)
CATEGORIES:meditation-et-developpement-personnel
ATTACH;FMTTYPE=image/jpeg:https://empower-yourself.today/wp-content/uploads/2022/12/16bbe38e90a6ad9defe320760e9ac73f-vxkCAQ.tmp_.jpg
END:VEVENT
END:VCALENDAR