BEGIN:VCALENDAR
VERSION:2.0
PRODID:-//Empower Yourself - ECPv6.15.16//NONSGML v1.0//EN
CALSCALE:GREGORIAN
METHOD:PUBLISH
X-ORIGINAL-URL:https://empower-yourself.today
X-WR-CALDESC:Évènements pour Empower Yourself
REFRESH-INTERVAL;VALUE=DURATION:PT1H
X-Robots-Tag:noindex
X-PUBLISHED-TTL:PT1H
BEGIN:VTIMEZONE
TZID:Europe/Brussels
BEGIN:DAYLIGHT
TZOFFSETFROM:+0100
TZOFFSETTO:+0200
TZNAME:CEST
DTSTART:20210328T010000
END:DAYLIGHT
BEGIN:STANDARD
TZOFFSETFROM:+0200
TZOFFSETTO:+0100
TZNAME:CET
DTSTART:20211031T010000
END:STANDARD
BEGIN:DAYLIGHT
TZOFFSETFROM:+0100
TZOFFSETTO:+0200
TZNAME:CEST
DTSTART:20220327T010000
END:DAYLIGHT
BEGIN:STANDARD
TZOFFSETFROM:+0200
TZOFFSETTO:+0100
TZNAME:CET
DTSTART:20221030T010000
END:STANDARD
BEGIN:DAYLIGHT
TZOFFSETFROM:+0100
TZOFFSETTO:+0200
TZNAME:CEST
DTSTART:20230326T010000
END:DAYLIGHT
BEGIN:STANDARD
TZOFFSETFROM:+0200
TZOFFSETTO:+0100
TZNAME:CET
DTSTART:20231029T010000
END:STANDARD
END:VTIMEZONE
BEGIN:VEVENT
DTSTART;TZID=Europe/Brussels:20220115T093000
DTEND;TZID=Europe/Brussels:20220115T113000
DTSTAMP:20260423T181827
CREATED:20211201T073714Z
LAST-MODIFIED:20211201T073830Z
UID:40467-1642239000-1642246200@empower-yourself.today
SUMMARY:Partages multiples
DESCRIPTION:Partages multiples\n\n\nPartages d’expériences\, d’idées\, de valeurs\,… \nOuvert à tous nos amis / clients / élèves / partenaires \nDe manière informelle lors d’un petit déjeuner\, puis de manière plus formelle lors d’un cercle de parole. \nNous tenons à ce que cette rencontre soit réellement ouverte à tous et donc purement gratuite. \nNéanmoins\, nous savons que certains d’entre vous seront heureux d’amener quelque chose à partager pour le petit-déjeuner. Merci de nous prévenir (via les billets d’inscription); cela nous permettra de mieux nous organiser et de ne pas gaspiller. \nVeuillez donc choisir le billet qui s’apparente le mieux à votre situation.
URL:https://empower-yourself.today/event/partages-multiples-3/
LOCATION:Mireille Soudan & Cédric Dufour – Empower Yourself\, 68 Avenue de Selliers de Moranville\, Berchem-Sainte-Agathe\, Bruxelles\, 1082\, Belgium
CATEGORIES:meditation-et-developpement-personnel,reiki,tai-chi
ATTACH;FMTTYPE=image/jpeg:https://empower-yourself.today/wp-content/uploads/2021/12/3d0127d3f2f06019c6da8ab3e5a4746c-A3V6W6.tmp_.jpg
END:VEVENT
BEGIN:VEVENT
DTSTART;TZID=Europe/Brussels:20220118T130000
DTEND;TZID=Europe/Brussels:20220118T140000
DTSTAMP:20260423T181827
CREATED:20220116T233325Z
LAST-MODIFIED:20220116T233616Z
UID:40490-1642510800-1642514400@empower-yourself.today
SUMMARY:Harmonisation de pleine lune
DESCRIPTION:Besoin de vous réharmoniser à l’approche de la pleine lune ?\n\n\nNous savons tous que nous sommes liés aux énergies de la lune\, principalement à l’approche des pleines lunes et nouvelles lunes. \nJe vous propose\, pour accompagner votre corps dans ces réharmonisations\, de recevoir des séances d’énergies de Marie-Madeleine. \n\n\n*Photo de Michael sur Unsplash
URL:https://empower-yourself.today/event/harmonisation-de-pleine-lune/
CATEGORIES:meditation-et-developpement-personnel,reiki
ATTACH;FMTTYPE=image/jpeg:https://empower-yourself.today/wp-content/uploads/2022/01/c25118e571853699ee6469b534602004-Uqpp4f.tmp_.jpg
END:VEVENT
BEGIN:VEVENT
DTSTART;TZID=Europe/Brussels:20220119T200000
DTEND;TZID=Europe/Brussels:20220119T220000
DTSTAMP:20260423T181827
CREATED:20211201T073715Z
LAST-MODIFIED:20211201T074104Z
UID:40469-1642622400-1642629600@empower-yourself.today
SUMMARY:Initiation à la Diksha
DESCRIPTION:L’outil le plus puissant pour apaiser… en seulement 2 minutes !\n\n\nLa Diksha est une bénédiction de Lumière Divine\, à pratiquer pour soi et à partager. \nPratiquée comme une mini-séance de Reiki\, la Diksha est une bénédiction de Lumière Divine\, d’une douceur mais aussi d’une efficacité incroyable ! Durant cette initiation\, tu apprendras ce qu’est la Diksha\, quand et à quoi elle peut servir. Ensuite\, tu seras initié(e) afin de pouvoir la pratiquer toi-même\, tant pour toi que pour tes proches. Elle constitue pour nous un outil indispensable\, qui devrait être connu de tous. C’est entre autres pour cela que cet atelier est gratuit. \nPour des raisons d’organisation\, nous vous demandons quand même de bien vouloir vous inscrire.
URL:https://empower-yourself.today/event/initiation-a-la-diksha-6/
LOCATION:Mireille Soudan & Cédric Dufour – Empower Yourself\, 68 Avenue de Selliers de Moranville\, Berchem-Sainte-Agathe\, Bruxelles\, 1082\, Belgium
CATEGORIES:meditation-et-developpement-personnel,reiki
END:VEVENT
END:VCALENDAR