BEGIN:VCALENDAR
VERSION:2.0
PRODID:-//Empower Yourself - ECPv6.15.16//NONSGML v1.0//EN
CALSCALE:GREGORIAN
METHOD:PUBLISH
X-WR-CALNAME:Empower Yourself
X-ORIGINAL-URL:https://empower-yourself.today
X-WR-CALDESC:Évènements pour Empower Yourself
REFRESH-INTERVAL;VALUE=DURATION:PT1H
X-Robots-Tag:noindex
X-PUBLISHED-TTL:PT1H
BEGIN:VTIMEZONE
TZID:Europe/Brussels
BEGIN:DAYLIGHT
TZOFFSETFROM:+0100
TZOFFSETTO:+0200
TZNAME:CEST
DTSTART:20200329T010000
END:DAYLIGHT
BEGIN:STANDARD
TZOFFSETFROM:+0200
TZOFFSETTO:+0100
TZNAME:CET
DTSTART:20201025T010000
END:STANDARD
BEGIN:DAYLIGHT
TZOFFSETFROM:+0100
TZOFFSETTO:+0200
TZNAME:CEST
DTSTART:20210328T010000
END:DAYLIGHT
BEGIN:STANDARD
TZOFFSETFROM:+0200
TZOFFSETTO:+0100
TZNAME:CET
DTSTART:20211031T010000
END:STANDARD
BEGIN:DAYLIGHT
TZOFFSETFROM:+0100
TZOFFSETTO:+0200
TZNAME:CEST
DTSTART:20220327T010000
END:DAYLIGHT
BEGIN:STANDARD
TZOFFSETFROM:+0200
TZOFFSETTO:+0100
TZNAME:CET
DTSTART:20221030T010000
END:STANDARD
END:VTIMEZONE
BEGIN:VEVENT
DTSTART;TZID=Europe/Brussels:20210601T193000
DTEND;TZID=Europe/Brussels:20210601T220000
DTSTAMP:20260424T041152
CREATED:20210423T172727Z
LAST-MODIFIED:20210429T063926Z
UID:40176-1622575800-1622584800@empower-yourself.today
SUMMARY:Initiation à la Diksha
DESCRIPTION:La Diksha est une bénédiction de Lumière Divine\, à pratiquer pour soi et à partager.\n\n\nPratiquée comme une mini-séance de Reiki\, la Diksha est une bénédiction de Lumière Divine\, d’une douceur mais aussi d’une efficacité incroyable ! Durant cette initiation\, tu apprendras ce qu’est la Diksha\, quand et à quoi elle peut servir. Ensuite\, tu seras initié(e) afin de pouvoir la pratiquer toi-même\, tant pour toi que pour tes proches. Elle constitue pour nous un outil indispensable\, qui devrait être connu de tous. C’est entre autres pour cela que cet atelier est gratuit. Pour des raisons d’organisation\, nous vous demandons quand même de bien vouloir vous inscrire.
URL:https://empower-yourself.today/event/initiation-a-la-diksha-5/
LOCATION:A distance (Zoom)
CATEGORIES:meditation-et-developpement-personnel
END:VEVENT
BEGIN:VEVENT
DTSTART;TZID=Europe/Brussels:20210601T193000
DTEND;TZID=Europe/Brussels:20210629T210000
DTSTAMP:20260424T041152
CREATED:20210427T062012Z
LAST-MODIFIED:20210501T084759Z
UID:40188-1622575800-1625000400@empower-yourself.today
SUMMARY:Cycle pour 'Une vie paisible\, joyeuse et fluide'
DESCRIPTION:4 soirées pour transformer votre vie ! + des exercices entre les ateliers + 1 coaching individuel en fin de cycle.\n\n\nAs-tu aussi régulièrement l’impression de te trouver devant une montagne ? Ce sentiment que les situations du quotidien deviennent de plus en plus difficiles à vivre et à surmonter ? \nTe sens-tu parfois épuisé(e) ? Prêt(e) à craquer ? \nNous vivons tous des moments difficiles au quotidien\, qui diminuent l’enthousiasme et l’énergie spontanée en nous. \nHeureusement\, des outils existent\, puissants\, qui viennent nous aider dans notre propre transformation… \n\n\nC’est typiquement ce que Mireille et moi te proposons dans notre Cycle complet de formation et coaching pour ‘Une Vie Paisible\, Joyeuse et Fluide‘. \nDe manière plus concrète\, nous te proposons \n– l’initiation à la Diksha\, qui apporte la paix\, \n– l’atelier ‘Éveillez Votre Puissance Intérieure‘\, qui te permettra de retrouver la puissance illimitée de l’être radieux\, lumineux et plein d’entrain qui est en toi. \n– l’atelier ‘La Transformation Fondamentale‘\, ou comment passer de l’effort à l’accomplissement \n– un suivi des apprentissages durant le mois du cycle \n– des possibilités de partage d’expériences\, exercices et questions-réponses \n– 1 h de coaching individuel en fin de cycle pour t’emmener encore une étape plus loin. \nUne occasion unique d’améliorer considérablement ton quotidien en seulement un mois ! \n\nHoraires des ateliers en commun :\n– mardi 1er juin\, de 19 h 30 à 22 h\n– mardi 8 juin\, de 19 h 30 à 22 h\n– mardi 22 juin\, de 19 h à 22 h\n– mardi 29 juin\, de 20 h à 21 h.
URL:https://empower-yourself.today/event/cycle-pour-une-vie-paisible-joyeuse-et-fluide/
CATEGORIES:meditation-et-developpement-personnel
ATTACH;FMTTYPE=image/jpeg:https://empower-yourself.today/wp-content/uploads/2021/04/6bb1c97f74bb0a08382d8dee19554ad4-ydOJLK.tmp_.jpg
END:VEVENT
BEGIN:VEVENT
DTSTART;TZID=Europe/Brussels:20210608T193000
DTEND;TZID=Europe/Brussels:20210608T220000
DTSTAMP:20260424T041152
CREATED:20210504T124955Z
LAST-MODIFIED:20210504T125219Z
UID:40278-1623180600-1623189600@empower-yourself.today
SUMMARY:Eveillez votre Puissance Intérieure
DESCRIPTION:Quels outils utiliser pour transformer la fatigue en vitalité et dynamisme ? Comment vivre en étant joyeux\, vibrant et inspiré ?\n\n\nTu es un être puissant par essence\, radieux\, lumineux\, plein d’entrain \nRejoins-nous pour puiser dans cette puissance illimitée qui est en toi. \nParticipe à cet atelier interactif pour : \n\nexplorer ce que signifie « être un être spirituel dans un corps physique »\ndécouvrir ta puissance inhérente\, en tant qu’énergie et lumière\ndynamiser cette lumière et te sentir dans un état vivifié et empli de passion\nélever ta vibration grâce au son primordial\, au souffle\, et à la lumière de haute fréquence\napporter calme et paix à ton mental tout en régénérant ton corps physique.
URL:https://empower-yourself.today/event/eveillez-votre-puissance-interieure/
CATEGORIES:meditation-et-developpement-personnel
ATTACH;FMTTYPE=image/jpeg:https://empower-yourself.today/wp-content/uploads/2021/05/2bd1b51c71d1ac4f11f3d5680682e4b2-1gnTqR.tmp_.jpg
END:VEVENT
BEGIN:VEVENT
DTSTART;TZID=Europe/Brussels:20210622T190000
DTEND;TZID=Europe/Brussels:20210622T220000
DTSTAMP:20260424T041152
CREATED:20210513T211401Z
LAST-MODIFIED:20210513T211522Z
UID:40289-1624388400-1624399200@empower-yourself.today
SUMMARY:La Transformation Fondamentale - de l'Effort à l'Accomplissement
DESCRIPTION:Que faut-il pour créer un changement fondamental dans nos vies? Explorez la possibilité d’être ancrés\, joyeux\, avec une paix inébranlable.\n\n\nQue faut-il pour créer un changement fondamental dans nos vies… Pour passer d’un besoin constant à la poursuite de quelque chose en dehors de nous-mêmes à un sens inhérent d’accomplissement intérieur ? \nCet atelier est une invitation à explorer… Explorer ces questions vitales qui sont couvertes par l’activité de la vie\, explorer comment manifester ce qui te semble le plus important\, explorer la possibilité d’être ancré(e) avec une paix inébranlable\, même au milieu du chaos. \n\n\nCet atelier sera dynamique afin de te donner l’opportunité de mettre en pratique une façon de reprendre le pouvoir sur ta propre vie. \nLes connaissances\, la conscience de soi et les outils que tu gagneras dans l’atelier t’aideront à mieux vivre ce que tu veux dans la vie. Tu vas : \n\n    Apprendre à accéder directement à la source d’accomplissement durable et de bonheur\n    Utiliser ta motivation pour réaliser et accomplir\, pour alimenter ta découverte et transformation de toi\n    Prendre conscience de toi-même et de ton potentiel inhérent\n    Pratiquer des techniques simples de méditation et d’auto-enquête pour revenir rapidement dans un centre calme.
URL:https://empower-yourself.today/event/la-transformation-fondamentale-de-leffort-a-laccomplissement/
CATEGORIES:meditation-et-developpement-personnel
ATTACH;FMTTYPE=image/jpeg:https://empower-yourself.today/wp-content/uploads/2021/05/0790b4f6143a5fe788204c8efc4ff324-CwpH79.tmp_.jpg
END:VEVENT
END:VCALENDAR